BEGIN:VCALENDAR
VERSION:2.0
PRODID:-//COVE - ECPv6.15.20//NONSGML v1.0//EN
CALSCALE:GREGORIAN
METHOD:PUBLISH
X-ORIGINAL-URL:https://coveocean.com
X-WR-CALDESC:Events for COVE
REFRESH-INTERVAL;VALUE=DURATION:PT1H
X-Robots-Tag:noindex
X-PUBLISHED-TTL:PT1H
BEGIN:VTIMEZONE
TZID:America/Halifax
BEGIN:DAYLIGHT
TZOFFSETFROM:-0400
TZOFFSETTO:-0300
TZNAME:ADT
DTSTART:20230312T060000
END:DAYLIGHT
BEGIN:STANDARD
TZOFFSETFROM:-0300
TZOFFSETTO:-0400
TZNAME:AST
DTSTART:20231105T050000
END:STANDARD
BEGIN:DAYLIGHT
TZOFFSETFROM:-0400
TZOFFSETTO:-0300
TZNAME:ADT
DTSTART:20240310T060000
END:DAYLIGHT
BEGIN:STANDARD
TZOFFSETFROM:-0300
TZOFFSETTO:-0400
TZNAME:AST
DTSTART:20241103T050000
END:STANDARD
BEGIN:DAYLIGHT
TZOFFSETFROM:-0400
TZOFFSETTO:-0300
TZNAME:ADT
DTSTART:20250309T060000
END:DAYLIGHT
BEGIN:STANDARD
TZOFFSETFROM:-0300
TZOFFSETTO:-0400
TZNAME:AST
DTSTART:20251102T050000
END:STANDARD
END:VTIMEZONE
BEGIN:VEVENT
DTSTART;TZID=America/Halifax:20241002T080000
DTEND;TZID=America/Halifax:20241003T120000
DTSTAMP:20260424T072112
CREATED:20241002T123629Z
LAST-MODIFIED:20241002T123629Z
UID:22217-1727856000-1727956800@coveocean.com
SUMMARY:Imagine Marine Conference 2024
DESCRIPTION:The Canadian Marine Careers Foundation (CMCF)\, in partnership with Master Mariners of Canada (MMC)\, will be hosting its inaugural IMAGINE MARINE CONFERENCE 2024 for the marine shipping industry from October 2-3\, 2024\, in Ottawa\, Ontario. This national workforce development conference will bring together marine sector stakeholders\, speakers and HR/EDI experts and resources to share best practices\, inspire ideas and develop strategies and solutions to Elevate Marine’s Recruitment and Retention Game in the face of increasing talent shortages in Canada’s competitive labour marketplace. \nThis 1.5 Day Conference will: \n\nShare the latest marine workforce development research from across the country.\nFacilitate sharing of pilot projects\, best practices\, and resources on improving training\, attraction and retention of talent on vessels\, in ports\, shipyards\, government agencies\, marine services and suppliers.\nInclude sessions with external experts and speakers centred on better understanding the workforce needs of underrepresented groups and focused on sharing perspectives and learning practical steps\, resources\, and strategies.\nHelp inform future workforce related programs for the marine sector.\nProvide networking and collaboration opportunities.\nFeature sponsorship exhibits\n\n\n\n\n\n\n\n\n\n\nThe conference welcomes attendees from all segments of the marine sector\, including education and training organizations\, vessel operators\, ports\, shipyards\, government agencies\, marine services and suppliers\, workforce development experts\, and other stakeholders.
URL:https://coveocean.com/event/imagine-marine-conference-2024/
LOCATION:Shaw Centre\, 55 Colonel By Drive\, Ottawa\, Ontario\, K1N 9J2\, Canada
CATEGORIES:Conference,Workforce Development
ATTACH;FMTTYPE=image/jpeg:https://coveocean.com/wp-content/uploads/2024/10/Imagine-Marine-Conference-2024-jpg.avif
END:VEVENT
END:VCALENDAR