BEGIN:VCALENDAR
VERSION:2.0
PRODID:-//COVE - ECPv6.15.20//NONSGML v1.0//EN
CALSCALE:GREGORIAN
METHOD:PUBLISH
X-WR-CALNAME:COVE
X-ORIGINAL-URL:https://coveocean.com
X-WR-CALDESC:Events for COVE
REFRESH-INTERVAL;VALUE=DURATION:PT1H
X-Robots-Tag:noindex
X-PUBLISHED-TTL:PT1H
BEGIN:VTIMEZONE
TZID:America/Halifax
BEGIN:DAYLIGHT
TZOFFSETFROM:-0400
TZOFFSETTO:-0300
TZNAME:ADT
DTSTART:20240310T060000
END:DAYLIGHT
BEGIN:STANDARD
TZOFFSETFROM:-0300
TZOFFSETTO:-0400
TZNAME:AST
DTSTART:20241103T050000
END:STANDARD
BEGIN:DAYLIGHT
TZOFFSETFROM:-0400
TZOFFSETTO:-0300
TZNAME:ADT
DTSTART:20250309T060000
END:DAYLIGHT
BEGIN:STANDARD
TZOFFSETFROM:-0300
TZOFFSETTO:-0400
TZNAME:AST
DTSTART:20251102T050000
END:STANDARD
BEGIN:DAYLIGHT
TZOFFSETFROM:-0400
TZOFFSETTO:-0300
TZNAME:ADT
DTSTART:20260308T060000
END:DAYLIGHT
BEGIN:STANDARD
TZOFFSETFROM:-0300
TZOFFSETTO:-0400
TZNAME:AST
DTSTART:20261101T050000
END:STANDARD
END:VTIMEZONE
BEGIN:VEVENT
DTSTART;VALUE=DATE:20250922
DTEND;VALUE=DATE:20250926
DTSTAMP:20260425T143548
CREATED:20250813T145358Z
LAST-MODIFIED:20250813T145358Z
UID:24480-1758499200-1758844799@coveocean.com
SUMMARY:36th Annual International Research Ship Operators (IRSO)
DESCRIPTION:The 36th Annual IRSO meeting will be hosted by the Institute of Marine Research in Bergen\, Norway\, from 22–25 September 2025. This esteemed forum brings together leaders from the global marine research ship community—representing approximately 49 organizations across 30 countries and managing over 100 of the world’s foremost scientific research vessels. \nIRSO serves as a vital platform for sharing best practices in the design\, management\, and operation of research ships and scientific equipment. It offers an annual gathering for operators to exchange insights\, collaborate on shared challenges\, and promote safe\, efficient\, and environmentally responsible maritime research. \nEvent Highlights \n\n\nHosted in the scenic city of Bergen\, with venues including the Scandic Bergen City Hotel. \n\n\nFeatures a robust program of presentations\, discussions\, and social activities designed for research ship operators and associated stakeholders. \n\n\nRegistration includes in-program activities\, daily refreshment breaks\, and a formal event dinner; optional team-building experiences—such as guided tours through the historic Bryggen district and a visit to Mount Fløyen via funicular—are available.
URL:https://coveocean.com/event/36th-annual-international-research-ship-operators-irso/
LOCATION:Scandic Bergen City Hotel\, Håkonsgaten 2\, 5015\, Bergen\, Norway
CATEGORIES:Research Vessels
ATTACH;FMTTYPE=image/png:https://coveocean.com/wp-content/uploads/2025/08/36th-Annual-International-Research-Ship-Operators-website.avif
END:VEVENT
END:VCALENDAR