BEGIN:VCALENDAR
VERSION:2.0
PRODID:-//COVE - ECPv6.15.20//NONSGML v1.0//EN
CALSCALE:GREGORIAN
METHOD:PUBLISH
X-WR-CALNAME:COVE
X-ORIGINAL-URL:https://coveocean.com
X-WR-CALDESC:Events for COVE
REFRESH-INTERVAL;VALUE=DURATION:PT1H
X-Robots-Tag:noindex
X-PUBLISHED-TTL:PT1H
BEGIN:VTIMEZONE
TZID:America/Halifax
BEGIN:DAYLIGHT
TZOFFSETFROM:-0400
TZOFFSETTO:-0300
TZNAME:ADT
DTSTART:20220313T060000
END:DAYLIGHT
BEGIN:STANDARD
TZOFFSETFROM:-0300
TZOFFSETTO:-0400
TZNAME:AST
DTSTART:20221106T050000
END:STANDARD
BEGIN:DAYLIGHT
TZOFFSETFROM:-0400
TZOFFSETTO:-0300
TZNAME:ADT
DTSTART:20230312T060000
END:DAYLIGHT
BEGIN:STANDARD
TZOFFSETFROM:-0300
TZOFFSETTO:-0400
TZNAME:AST
DTSTART:20231105T050000
END:STANDARD
BEGIN:DAYLIGHT
TZOFFSETFROM:-0400
TZOFFSETTO:-0300
TZNAME:ADT
DTSTART:20240310T060000
END:DAYLIGHT
BEGIN:STANDARD
TZOFFSETFROM:-0300
TZOFFSETTO:-0400
TZNAME:AST
DTSTART:20241103T050000
END:STANDARD
BEGIN:DAYLIGHT
TZOFFSETFROM:-0400
TZOFFSETTO:-0300
TZNAME:ADT
DTSTART:20250309T060000
END:DAYLIGHT
BEGIN:STANDARD
TZOFFSETFROM:-0300
TZOFFSETTO:-0400
TZNAME:AST
DTSTART:20251102T050000
END:STANDARD
BEGIN:DAYLIGHT
TZOFFSETFROM:-0400
TZOFFSETTO:-0300
TZNAME:ADT
DTSTART:20260308T060000
END:DAYLIGHT
BEGIN:STANDARD
TZOFFSETFROM:-0300
TZOFFSETTO:-0400
TZNAME:AST
DTSTART:20261101T050000
END:STANDARD
END:VTIMEZONE
BEGIN:VEVENT
DTSTART;VALUE=DATE:20251112
DTEND;VALUE=DATE:20251115
DTSTAMP:20260425T075427
CREATED:20251020T130145Z
LAST-MODIFIED:20251020T182513Z
UID:24712-1762905600-1763164799@coveocean.com
SUMMARY:Marine Renewables Canada 2025
DESCRIPTION:Join the marine energy community this November 12–14\, 2025\, in Halifax\, Nova Scotia for Marine Renewables Canada (MRC) 2025 Conference & Exhibition—Canada’s premier gathering for marine renewable-energy innovation. \nThis year’s event offers an expanded format including: \n\nA full trade show and exhibition spotlighting technologies\, services\, and emerging players in the sector\nWorkshops hosted by industry members\, offering deep dives into technical\, policy\, and market themes\nConcurrent sessions covering R&D\, regulatory updates\, and strategic trends in marine renewables\nEnhanced networking and B2B matchmaking opportunities to spark collaboration and partnerships\n\nAs a Canadian hub for marine technology\, COVE is excited to follow the conversations and innovations emerging at MRC 2025—and we look forward to seeing how this can accelerate growth across our maritime ecosystem.
URL:https://coveocean.com/event/marine-renewables-canada-2025/
LOCATION:Halifax Convention Centre\, 1650 Argyle St\, Halifax\, Nova Scotia\, B3J 0E6\, Canada
CATEGORIES:Conference,Marine Technology,Renewable energy
ATTACH;FMTTYPE=image/png:https://coveocean.com/wp-content/uploads/2025/10/MRC-resized.avif
END:VEVENT
BEGIN:VEVENT
DTSTART;TZID=America/Halifax:20250924T083000
DTEND;TZID=America/Halifax:20250924T183000
DTSTAMP:20260425T075427
CREATED:20250910T143135Z
LAST-MODIFIED:20250910T143135Z
UID:24564-1758702600-1758738600@coveocean.com
SUMMARY:Nova Scotia Offshore Wind R&D Forum 2025
DESCRIPTION:The Nova Scotia Offshore Wind R&D Forum 2025 is a one-day\, purpose-driven gathering of researchers\, innovators\, Indigenous and community leaders\, policymakers\, and industry professionals. Convened by Net Zero Atlantic in partnership with the Nova Scotia Department of Energy\, the Forum aligns research with the practical\, technical\, and regulatory needs for Nova Scotia’s offshore wind development.
URL:https://coveocean.com/event/nova-scotia-offshore-wind-rd-forum-2025/
LOCATION:The Westin Nova Scotian ● Halifax\, Nova Scotia\, 1181 Hollis St\,\, Halifax\, Nova Scotia\, B3H 2P6\, Canada
CATEGORIES:Canada,Halifax,Renewable energy
ATTACH;FMTTYPE=image/png:https://coveocean.com/wp-content/uploads/2025/09/NS-offshore-wind-forum-2025.avif
END:VEVENT
BEGIN:VEVENT
DTSTART;VALUE=DATE:20241119
DTEND;VALUE=DATE:20241122
DTSTAMP:20260425T075427
CREATED:20240930T192430Z
LAST-MODIFIED:20240930T192705Z
UID:22200-1731974400-1732233599@coveocean.com
SUMMARY:Marine Renewables Canada 2024 Conference
DESCRIPTION:Canada’s marine renewable energy industry is embarking on an exciting chapter. These upcoming years will be pivotal in ensuring our offshore wind\, tidal\, wave\, and river current resources play a major role in achieving net zero goals and building the blue economy.   \nThis year\, Marine Renewables Canada’s 2024 Conference will set the stage for how we can build this new industry in Canada and continue working towards establishing a thriving marine renewable energy sector for generations to come. Over two days\, industry leaders and experts will provide insight into market opportunities\, current industry activity and progress\, and work underway to enable sector growth.  \nConference Registration Options & Rates\nThe 2024 conference offers various participation options: delegate (member and non-member)\, student\, exhibitor\, and speaker (only available to confirmed speakers). Conference delegate\, student\, and speaker registrations include access to all conference sessions\, keynotes\, welcome reception\, refreshment breaks\, and lunches. Additional side events and workshops may be extra or exclusive to MRC members only.
URL:https://coveocean.com/event/marine-renewables-canada-2024-conference/
LOCATION:Halifax Marriott Harbourfront Hotel
CATEGORIES:Canada,Conference,Renewable energy
ATTACH;FMTTYPE=image/png:https://coveocean.com/wp-content/uploads/2024/09/MRC2024.png
ORGANIZER;CN="Marine Renewables Canada":MAILTO:https://marinerenewables.ca
END:VEVENT
BEGIN:VEVENT
DTSTART;VALUE=DATE:20240924
DTEND;VALUE=DATE:20240928
DTSTAMP:20260425T075427
CREATED:20240118T210511Z
LAST-MODIFIED:20240118T210511Z
UID:20074-1727136000-1727481599@coveocean.com
SUMMARY:WindEnergy Hamburg 2024
DESCRIPTION:WindEnergy Hamburg is one of the world’s biggest and most important wind business platforms for exchanging news and views\, building networks and closing major deals. National and international wind industry associations cooperate with WindEnergy Hamburg and encourage their members to attend.
URL:https://coveocean.com/event/windenergy-hamburg-2024/
LOCATION:Hamburg Messe und Congress GmbH\, Messeplatz 1\, Hamburg\, 20357\, Germany
CATEGORIES:Germany,Renewable energy
ATTACH;FMTTYPE=image/png:https://coveocean.com/wp-content/uploads/2024/01/Untitled-design-2-1.png
END:VEVENT
BEGIN:VEVENT
DTSTART;TZID=America/Halifax:20240824T110000
DTEND;TZID=America/Halifax:20240824T140000
DTSTAMP:20260425T075427
CREATED:20240730T164256Z
LAST-MODIFIED:20240819T175817Z
UID:21854-1724497200-1724508000@coveocean.com
SUMMARY:OffshoreWind4Kids Interactive Showcase: Rissers Beach
DESCRIPTION:Looking for a fun and educational summer activity the whole family can enjoy? Love going to the beach? Add the OffshoreWind4Kids Interactive Showcase to your 2024 beach agenda! Join us on August 24th at Rissers Beach and learn how to build and test mini offshore wind turbines and how they benefit the renewable energy sector! \nCOVE has teamed up with OffshoreWind4Kids\, with support from the RBC Foundation through RBC Tech for Nature\, in hosting the OffshoreWind4Kids Interactive Showcase. This event is designed for youth and their families to learn about the offshore wind industry and to inspire youth about future career paths. \nYou and your family are invited to join Kat Mataya\, Manager of Workforce Development\, Sydney Silver\, Training and Education Coordinator\, and Frida Kaeubler- DeLong\, Outreach Education Intern from COVE\, for the interactive event at Rissers Beach on August 24th\, from 11:00 a.m. – 12:00 p.m. or from 1:00 p.m. – 2:00 p.m. The event is suitable for ages 6+. You only need to register for one general admission ticket to reserve a spot for your group. \nOffshoreWind4Kids is a non-profit organization based in Belgium. Their goals are to inspire youth about engineering\, technology and renewable energy\, stimulate innovation in offshore wind\, and spread awareness of offshore wind to the general public. OffshoreWind4Kids was started in 2021 and is active in 18 countries. You can learn more about OffshoreWind4Kids HERE. \n*Please note that this is a family event\, and youth should not be dropped off and left without parental supervision. \n*Please fill out the consent form found HERE prior to attending the event. \nThe rain date for this event is Sunday\, August 25th. \nCan’t make it in August? Join us on September 15th for another OffshoreWind4Kids Interactive Showcase event. Stay tuned in the coming weeks for more details to come.
URL:https://coveocean.com/event/offshorewind4kids-interactive-showcase-rissers-beach/
LOCATION:Rissers Beach Provincial Park\, 5366 Nova Scotia 331\, Petite Rivière Bridge\, NS\, B0R 1C0\, Canada
CATEGORIES:Education Workshop,Renewable energy
ATTACH;FMTTYPE=image/png:https://coveocean.com/wp-content/uploads/2024/07/OffshoreWind4Kids-2024-beach-days-Aug-124.png
END:VEVENT
BEGIN:VEVENT
DTSTART;TZID=America/Halifax:20240727T110000
DTEND;TZID=America/Halifax:20240727T140000
DTSTAMP:20260425T075427
CREATED:20240613T210806Z
LAST-MODIFIED:20240613T210806Z
UID:21749-1722078000-1722088800@coveocean.com
SUMMARY:Family Friendly Event: OffshoreWind4Kids Interactive Showcase
DESCRIPTION:Looking for a fun and educational summer activity the whole family can enjoy? Love going to the beach? Add the OffshoreWind4Kids Interactive Showcase to your 2024 beach agenda and learn how to build and test mini offshore wind turbines and learn how they benefit the renewable energy sector! \nYou and your family are invited to join Kat Mataya\, Manager of Workforce Development\, and Sydney Silver\, Training and Education Coordinator at COVE\, for the interactive event on July 27 from 11:00a.m. – 12:00 p.m. or from 1:00 p.m. – 2:00 p.m.\, at Rainbow Haven Beach (rain date is July 28). The event is recommended for ages 8 – 13 and youth must be accompanied by parentals.
URL:https://coveocean.com/event/family-friendly-event-offshorewind4kids-interactive-showcase/
LOCATION:Rainbow Haven Beach\, 2248 Cow Bay Road\, Cow Bay\, Nova Scotia\, B3G 1K8\, Canada
CATEGORIES:Education Workshop,Renewable energy
ATTACH;FMTTYPE=image/png:https://coveocean.com/wp-content/uploads/2024/06/OffshoreWind4Kids-2024-beach-days.png
END:VEVENT
BEGIN:VEVENT
DTSTART;VALUE=DATE:20240710
DTEND;VALUE=DATE:20240712
DTSTAMP:20260425T075427
CREATED:20240118T210856Z
LAST-MODIFIED:20240118T210856Z
UID:20029-1720569600-1720742399@coveocean.com
SUMMARY:Australia Wind Energy 2024
DESCRIPTION:Australia Wind Energy 2024 (#AuWE2024) will be back at MCEC Melbourne from 09th to 11th July 2024\, bigger and better than ever! This extraordinary event presents an unparalleled opportunity for you to forge strategic partnerships in the thriving Australian offshore and onshore wind industry. With our event space and attendee numbers doubled\, we proudly stand as the largest wind event in Australia and the entire APAC region\, welcoming a staggering 5\,000 energy enthusiasts.\n​\nKey Event Features:\nCutting-edge Insights: Immerse yourself in the pulse of sustainable energy as we dive deep into Australia’s wind power roadmap\, offshore wind deployment\, investment & the latest technical innovations.\nInnovation Showcase: Explore the AuWE2024 Exhibition\, where the latest advancements take center stage\, showcasing the future of wind energy.\nUnparalleled Networking: Connect with representatives from Australia’s federal and state governments\, domestic and international investors\, developers\, network providers\, financiers\, EPCs\, and top-notch equipment and solution providers.\nSynergistic Opportunities: Co-located with Connecting Green Hydrogen APAC 2024\, our event fosters powerful synergies between two leading sustainable energy gatherings.
URL:https://coveocean.com/event/australia-wind-energy-2024/
LOCATION:Melbourne Convention and Exhibition Center (MCEC)\, 1 Convention Centre Place\, Melbourne\, Victoria\, 3006\, Australia
CATEGORIES:Conference,Energy,Renewable energy
ATTACH;FMTTYPE=image/png:https://coveocean.com/wp-content/uploads/2024/01/Untitled-design-3.png
END:VEVENT
BEGIN:VEVENT
DTSTART;VALUE=DATE:20240626
DTEND;VALUE=DATE:20240629
DTSTAMP:20260425T075427
CREATED:20240216T174248Z
LAST-MODIFIED:20240216T174248Z
UID:20434-1719360000-1719619199@coveocean.com
SUMMARY:Seanergy 2024
DESCRIPTION:France’s international event on offshore renewable energy\nA business forum for all stakeholders in the industry to make connections\, grow their business\, share ideas and\, more widely\, to contribute to the development of all kinds of offshore renewable energy. \nEach year\, Seanergy brings together more than 4\,000 leaders and experts from the Offshore Renewable Energy industry. \nDuring 2 days\, the exhibition area is the place where attendees explore innovations and technologies making the energy transition happen\, where they do business and reach out to professionals showcasing projects and vision into future solutions. \nPosition your company as one of the leading companies in the flied.
URL:https://coveocean.com/event/seanergy-2024/
LOCATION:ExpoNantes\, 123 Av. de Bourgogne\, Nantes\, 44300\, France
CATEGORIES:Europe,Renewable energy
ATTACH;FMTTYPE=image/png:https://coveocean.com/wp-content/uploads/2024/02/newsletter.png
ORGANIZER;CN="BlueSign":MAILTO:hello@seanergy-forum.com
END:VEVENT
BEGIN:VEVENT
DTSTART;VALUE=DATE:20240422
DTEND;VALUE=DATE:20240425
DTSTAMP:20260425T075427
CREATED:20231221T170134Z
LAST-MODIFIED:20231221T170134Z
UID:19898-1713744000-1714003199@coveocean.com
SUMMARY:International Partnering Forum
DESCRIPTION:The International Partnering Forum (IPF)\, hosted by the Oceantic Network (formerly the Business Network for Offshore Wind)\, is the premier offshore wind energy conference in the Americas. \nIndustry experts from around the world converge to share best business practices\, the most advanced technical and scientific findings\, and policy updates impacting offshore wind. IPF connects global leaders and businesses in the supply chain\, offers unparalleled networking opportunities\, and delivers the most timely and relevant updates on the industry\, from technology and policy to safety and siting. \nThis year’s event takes place April 22-25 in New Orleans\, Louisiana. IPF offers registrants a vast array of networking opportunities to grow your business\, including the popular WindMatch™ program. With the rapid expansion of offshore wind\, IPF attendance helps secure your place as a leader in the industry.
URL:https://coveocean.com/event/international-partnering-forum-2/
LOCATION:New Orleans Ernest N. Morial Convention Center\, 900 Convention Center Boulevard\, New Orleans\, LA\, 70130\, United States
CATEGORIES:Conference,Renewable energy
ATTACH;FMTTYPE=image/png:https://coveocean.com/wp-content/uploads/2023/12/IPF-2024-web.png
END:VEVENT
BEGIN:VEVENT
DTSTART;VALUE=DATE:20240313
DTEND;VALUE=DATE:20240315
DTSTAMP:20260425T075427
CREATED:20240118T211918Z
LAST-MODIFIED:20240118T211918Z
UID:20048-1710288000-1710460799@coveocean.com
SUMMARY:Marine Renewables Canada Mission to Marine Energy Wales (MEW) 2024
DESCRIPTION:Following the sold-out success of 2023\, Marine Energy Wales is excited to announce the conference will return to Swansea Arena on the 13th and 14th of March 2024\n#MEW2024 is an unmissable opportunity to help shape the future of marine renewable energy in Wales\, and connect with industry leaders\, experts\, researchers\, and policymakers. 
URL:https://coveocean.com/event/marine-renewables-canada-mission-to-marine-energy-wales-mew-2024/
LOCATION:Swansea Arena | Arena Abertawe\, Oystermouth Rd\, Swansea\, SA1 3BX\, United Kingdom
CATEGORIES:Conference,Europe,Renewable energy
ATTACH;FMTTYPE=image/png:https://coveocean.com/wp-content/uploads/2024/01/MEW_Conference_Image.png
END:VEVENT
BEGIN:VEVENT
DTSTART;VALUE=DATE:20240205
DTEND;VALUE=DATE:20240208
DTSTAMP:20260425T075427
CREATED:20231221T153819Z
LAST-MODIFIED:20231221T153819Z
UID:19881-1707091200-1707350399@coveocean.com
SUMMARY:Floating Wind Solutions
DESCRIPTION:Floating Wind Solutions\, held annually in Houston\, is the ultimate opportunity for those who are presently involved in or seeking entry into floating wind.  \nFWS facilitates network opportunities with the right experienced people while gaining knowledge of the technical solutions available. Floating Wind Solutions’ mission is to utilize this platform to bring together the many critical players within the wind and offshore industries enabling accelerated adoption of Floating Wind Energy globally. This premier event’s primary goal is to accelerate the Energy Transition\, by focusing on the industrialization and commercialization of Floating Wind Energy. A world class Advisory Board ensures that the program maintains its sharp focus on the principles of the mission. \nExceptional growth in the harvesting of Floating Wind Energy will be reliant upon the technology and experience of companies historically focused on the offshore Supply Chain. With few exceptions\, these companies are the only ones who have ever designed\, constructed or installed permanently moored structures of any kind. In addition\, traditional Major Offshore Energy Operators are leading investors\, developers and operators of Floating Wind Energy Projects.
URL:https://coveocean.com/event/floating-wind-solutions/
LOCATION:Hilton Americas\, 1600 Lamar St\, Houston\, TX\, 77010\, United States
CATEGORIES:Conference,Renewable energy
ATTACH;FMTTYPE=image/png:https://coveocean.com/wp-content/uploads/2023/12/FWS.png
END:VEVENT
BEGIN:VEVENT
DTSTART;TZID=America/Halifax:20240125T160000
DTEND;TZID=America/Halifax:20240125T190000
DTSTAMP:20260425T075427
CREATED:20240111T193504Z
LAST-MODIFIED:20240115T163612Z
UID:19965-1706198400-1706209200@coveocean.com
SUMMARY:Tech for Tomorrow: Empowering Voices in Climate Action and Sustainability
DESCRIPTION:The Tech for Tomorrow: Empowering Voices in Climate Action and Sustainability seminar will present diverse speakers\, specifically those with underrepresented voices\, who will discuss sustainability and climate change\, how they have been affected by climate change and how they are acting on the issue\, as well as how innovative technology is central to finding the solution. \nWith a focus on local climate action\, sustainability\, and innovative green tech\, this seminar will allow speakers to share their experiences and exchange ideas for a sustainable world. \nVarious bright minds in the climate action and sustainability sector will be featured during the seminar\, including Nicholas LaValle\, Founder and CEO of Clean Valley CIC\, with his innovations in sustainable biofiltration for aquaculture. \nJoin us for an evening of climate action talks and networking! Snacks and refreshments will be provided. \nThe Tech for Tomorrow: Empowering Voices in Climate Action and Sustainability seminar speakers include: \n\nAddie Burkam\, Graduate from the College of Sustainability\, Dalhousie University\nDr. Danika Van Proosdij\, Coastal Geomorphologist and Professor\, Department of Geography and Environmental Studies\, Saint Mary’s University\nGeorgia Klein\, Associate Director\, College of Sustainability\, Dalhousie University\nMab Speelman\, Program Coordinator for Mlkiknewawti Land-Based Learning Program\, SuperNOVA\, Dalhousie University\nNicholas LaValle\, Founder and CEO\, Clean Valley CIC\nGrace Young\, Mentorship and Events Manager\, Student Energy
URL:https://coveocean.com/event/tech-for-tomorrow-empowering-voices-in-climate-action-and-sustainability/
LOCATION:COVE\, 27 Parker Street\, Dartmouth\, NS\, B2Y 4T5\, Canada
CATEGORIES:Energy,Innovation,Renewable energy
ATTACH;FMTTYPE=image/png:https://coveocean.com/wp-content/uploads/2024/01/Climate-Seminar-Jan-2024-EVENTBRITE.png
END:VEVENT
BEGIN:VEVENT
DTSTART;VALUE=DATE:20231204
DTEND;VALUE=DATE:20231207
DTSTAMP:20260425T075427
CREATED:20230719T181711Z
LAST-MODIFIED:20231013T135229Z
UID:18188-1701648000-1701907199@coveocean.com
SUMMARY:Marine Renewables Canada 2023 Conference
DESCRIPTION:The 2023 Marine Renewables Canada Conference is taking place on December 4-6\, 2023\, in Ottawa\, Ontario! \nJoin MRC for the largest event of the year for Canada’s growing marine renewable energy industry! From offshore wind\, tidal energy\, and green hydrogen activity in Atlantic Canada to opportunities for wave energy on the Pacific coast and river current energy in remote communities across Canada\, the 2023 Marine Renewables Canada Conference will provide the latest information on market opportunities\, supportive policies\, and enabling initiatives. \nKey features of the conference will include: \n\nHighlights on Canadian achievements and progress\nInsight and discussion on new markets and innovation opportunities for marine renewable energy such as green hydrogen and off-grid electrification\nInformation on the latest policy and regulatory initiatives affecting the sector\nDiscussion on priorities and strategies to advance the industry\nUpdates on initiatives and research that are enabling sector development\nNetworking opportunities that will help build connections and support emerging industry needs
URL:https://coveocean.com/event/marine-renewables-canada-2023-conference/
LOCATION:Delta Hotels by Marriott Ottawa City Centre\, 101 Lyon St. N\, Ottawa\, Ontario\, K1R 5T9\, Canada
CATEGORIES:Canada,Renewable energy
ATTACH;FMTTYPE=image/png:https://coveocean.com/wp-content/uploads/2023/07/7.png
ORGANIZER;CN="Marine Renewables Canada":MAILTO:https://marinerenewables.ca
END:VEVENT
END:VCALENDAR