BEGIN:VCALENDAR
VERSION:2.0
PRODID:-//COVE - ECPv6.15.20//NONSGML v1.0//EN
CALSCALE:GREGORIAN
METHOD:PUBLISH
X-WR-CALNAME:COVE
X-ORIGINAL-URL:https://coveocean.com
X-WR-CALDESC:Events for COVE
REFRESH-INTERVAL;VALUE=DURATION:PT1H
X-Robots-Tag:noindex
X-PUBLISHED-TTL:PT1H
BEGIN:VTIMEZONE
TZID:America/Halifax
BEGIN:DAYLIGHT
TZOFFSETFROM:-0400
TZOFFSETTO:-0300
TZNAME:ADT
DTSTART:20210314T060000
END:DAYLIGHT
BEGIN:STANDARD
TZOFFSETFROM:-0300
TZOFFSETTO:-0400
TZNAME:AST
DTSTART:20211107T050000
END:STANDARD
BEGIN:DAYLIGHT
TZOFFSETFROM:-0400
TZOFFSETTO:-0300
TZNAME:ADT
DTSTART:20220313T060000
END:DAYLIGHT
BEGIN:STANDARD
TZOFFSETFROM:-0300
TZOFFSETTO:-0400
TZNAME:AST
DTSTART:20221106T050000
END:STANDARD
BEGIN:DAYLIGHT
TZOFFSETFROM:-0400
TZOFFSETTO:-0300
TZNAME:ADT
DTSTART:20230312T060000
END:DAYLIGHT
BEGIN:STANDARD
TZOFFSETFROM:-0300
TZOFFSETTO:-0400
TZNAME:AST
DTSTART:20231105T050000
END:STANDARD
BEGIN:DAYLIGHT
TZOFFSETFROM:-0400
TZOFFSETTO:-0300
TZNAME:ADT
DTSTART:20240310T060000
END:DAYLIGHT
BEGIN:STANDARD
TZOFFSETFROM:-0300
TZOFFSETTO:-0400
TZNAME:AST
DTSTART:20241103T050000
END:STANDARD
END:VTIMEZONE
BEGIN:VEVENT
DTSTART;TZID=America/Halifax:20230817T160000
DTEND;TZID=America/Halifax:20230817T180000
DTSTAMP:20260422T220917
CREATED:20230922T172410Z
LAST-MODIFIED:20230922T192817Z
UID:18833-1692288000-1692295200@coveocean.com
SUMMARY:Ocean Connector: Sociable!
DESCRIPTION:Our annual Ocean Connector: Sociable! will be held on August 17th from 4:00 p.m. – 6:00 p.m. at Brightwood Brewery Beer Garden at Alderney Landing (2 Ochterloney Street\, Dartmouth\, NS\, B2Y 4W1). No presentation or keynote speakers – this Ocean Connector is about networking with the marine tech community.
URL:https://coveocean.com/event/ocean-connector-sociable-2/
LOCATION:Brightwood Beer Garden\, 2 Ochterloney St\,\, Dartmouth\, Nova Scotia\, B2Y 4W1\, Canada
CATEGORIES:Ocean Connector
ATTACH;FMTTYPE=image/png:https://coveocean.com/wp-content/uploads/2023/09/Ocean-Connector-sociable-2023-3.png
END:VEVENT
BEGIN:VEVENT
DTSTART;TZID=America/Halifax:20230720T130000
DTEND;TZID=America/Halifax:20230720T150000
DTSTAMP:20260422T220917
CREATED:20230922T172331Z
LAST-MODIFIED:20230922T183111Z
UID:18835-1689858000-1689865200@coveocean.com
SUMMARY:Ocean Connector: Developing Next-Gen Dockyard Solutions
DESCRIPTION:Thales Canada\, Datifex\, and COVE discuss developing Challenges to deliver innovative tools to support the AJISS program. \nAs the prime contractor of the AJISS program\, Thales Canada partnered with COVE to develop the Naval Technology Innovation Challenges. The Challenges provided Start-Ups and SMEs working in Atlantic Canada with the opportunity to deliver solutions to some of the most complex challenges the Royal Canadian Navy faces—providing a methodology to evaluate naval condition-based maintenance solutions and developing innovative tools that deconflict activities in a navy dockyard. \nOn July 20th\, Datifex\, the winning proponent of the Digital Dockyard Challenge\, will join COVE and Thales Canada to discuss their solutions that will accelerate the modernization and digitalization of naval operations. \nThales Canada will discuss the Arctic and Offshore Patrol Ships and Joint Support Ships (AJISS) program and how developing initiatives like the Naval Technology Innovation Challenges with COVE helps extend their commitment to Canada by investing in R&D and collaborating with leading Canadian small and medium-sized enterprises to develop and commercialize key industrial capabilities.
URL:https://coveocean.com/event/ocean-connector-developing-next-gen-dockyard-solutions-2/
LOCATION:Nova Scotia
CATEGORIES:Ocean Connector
ATTACH;FMTTYPE=image/png:https://coveocean.com/wp-content/uploads/2023/09/July-2023-ocean-connector-COVE-Thales-Datifex.png
END:VEVENT
BEGIN:VEVENT
DTSTART;TZID=America/Halifax:20230525T130000
DTEND;TZID=America/Halifax:20230525T150000
DTSTAMP:20260422T220917
CREATED:20230922T172303Z
LAST-MODIFIED:20230922T172303Z
UID:18837-1685019600-1685026800@coveocean.com
SUMMARY:Ocean Connector: Exclusive Invitation to tour MetOcean Telematics
DESCRIPTION:Join COVE and MetOcean Telematics for a tour of their state-of-art research and development facility and production space at 11 Thornhill Dr. \n\n\nJoin COVE and MetOcean Telematics for an exclusive invitation available to the COVE community on May 25th for a tour of the state-of-the-art facility and meet a global leader in satellite communications headquartered in Dartmouth\, Nova Scotia. \nThe tour offers an excellent opportunity to learn about the satellite communications industry and provides the chance to network with others in the marine sector. \nNOTE: Tickets are mandatory for this event. Please have a printed copy or save a tree and have your mobile ticket ready to be scanned when entering the facility. \n\n\n\n\nParking Instructions: \nThe Ocean Connector will take place at 11 Thornhill Drive\, the building on the left\, when you first turn onto Thornhill Drive. Limited parking is available – Be a superhero and carpool.
URL:https://coveocean.com/event/ocean-connector-exclusive-invitation-to-tour-metocean-telematics-2/
LOCATION:MetOcean Telematics\, 11 Thornhill Dr\, Dartmouth\, Nova Scotia\, B3B 1R9\, Canada
CATEGORIES:Ocean Connector
ATTACH;FMTTYPE=image/png:https://coveocean.com/wp-content/uploads/2023/09/MetOcean-Telematics-OC-May-2023.png
END:VEVENT
BEGIN:VEVENT
DTSTART;TZID=America/Halifax:20230323T130000
DTEND;TZID=America/Halifax:20230323T150000
DTSTAMP:20260422T220917
CREATED:20230922T172237Z
LAST-MODIFIED:20230922T172237Z
UID:18840-1679576400-1679583600@coveocean.com
SUMMARY:Ocean Connector: Advancing carbon dioxide removal technologies
DESCRIPTION:Ocean carbon removal approaches aim to enhance or accelerate natural biological or chemical processes that sequester carbon in the ocean. Improving our understanding and facilitating the development of oceans’ carbon removal mechanisms are essential to addressing climate action. Of the various marine CDR technologies proposed to date\, ocean alkalinity enhancement (OAE) has the largest potential and boasts many advantages\, such as mitigating ocean acidification and having a high degree of permanence. \n\n\nGiven the rapidly growing interest in this area\, a science-based\, research-led\, iterative and adaptive approach in collaboration with innovative technology from industry will provide a better understanding of the potential of OAEs and strike an optimal balance between the urgency of combating climate change\, the importance of protecting our natural resources\, and realizing on this economic opportunity. \nLearn more about OAE and the OCEAN ALK-ALIGN project which involves an international consortium of researchers from Canada\, Germany and Australia to advance knowledge essential for OAE implementation. \n\n\n\n\nMeet the speaker: \nDr. Dariia Atamanchuk is a Research Associate at the Ocean Science and Technology group at Dalhousie University\, Halifax\, Canada. Dariia’s research activities focus on studying ocean biogeochemical cycling of EOVs (and beyond) using observations from autonomous platforms and sensors as primary tools. These include in situ and ship-borne observations of coastal environments (Scotian Shelf\, KoljoFjord\, Bedford Basin Time-Series) and the open ocean (Labrador Sea\, North Atlantic) concerning the carbon cycle (pCO2\, pH\, TA)\, oxygen\, nutrients (nitrate and phosphate)\, chlorophyll\, bio-optical properties of seawater\, velocity and more.
URL:https://coveocean.com/event/ocean-connector-advancing-carbon-dioxide-removal-technologies-2/
LOCATION:COVE\, 27 Parker Street\, Dartmouth\, NS\, B2Y 4T5\, Canada
CATEGORIES:Halifax,Ocean Connector
ATTACH;FMTTYPE=image/png:https://coveocean.com/wp-content/uploads/2023/09/Ocean-Connector-graphic-Ocean-Alkalinity-Enhancement-Advancing-Carbon-Dioxiode-Removal-technologies-.png
END:VEVENT
BEGIN:VEVENT
DTSTART;TZID=America/Halifax:20230202T120000
DTEND;TZID=America/Halifax:20230202T140000
DTSTAMP:20260422T220917
CREATED:20230922T172206Z
LAST-MODIFIED:20230922T172206Z
UID:18842-1675339200-1675346400@coveocean.com
SUMMARY:Ocean Connector: Environmental genomics applications in the marine sector
DESCRIPTION:Join us for the first Ocean Connector of 2023 with Dr. Marc Skinner and Dr. Robert Beiko for a discussion on environmental genomics\, advanced sensor technology\, and industrial and regulatory uptake opportunities.\nEnvironmental genomics is a rapidly advancing field that promises to revolutionize the way industry conducts biodiversity monitoring. \nSuch technology provides non-invasive means of collecting biodiversity surveys without physically harming organisms\, particularly species-at-risk\, at a considerably lower sampling effort and cost. Across marine sectors\, consensus exists that the application of environmental genomics has advanced dramatically in a short amount of time\, with demonstrable benefits. \nThat said\, there is an acknowledgement that further development is needed to increase regulatory confidence in applying genomics approaches within the industry. The result of advanced sensor technology for reliable in-situ sampling and analyses is a critical aspect that will further ease the broader application of environmental genomics. \nOn February 2nd\, Dr. Marc Skinner\, senior marine scientist and biostatistician at Stantec\, and Dr. Robert Beiko\, co-founder and Director of Data with Dartmouth Ocean Technologies\, Inc\, discuss the current regulatory landscape\, case studies for advanced genomics sensors\, and industrial and regulatory uptake opportunities.
URL:https://coveocean.com/event/ocean-connector-environmental-genomics-applications-in-the-marine-sector-2/
LOCATION:COVE\, 27 Parker Street\, Dartmouth\, NS\, B2Y 4T5\, Canada
CATEGORIES:Halifax,Ocean Connector
ATTACH;FMTTYPE=image/png:https://coveocean.com/wp-content/uploads/2023/09/Ocean-Connector-graphic.png
END:VEVENT
BEGIN:VEVENT
DTSTART;TZID=America/Halifax:20221124T120000
DTEND;TZID=America/Halifax:20221124T140000
DTSTAMP:20260422T220917
CREATED:20230922T171925Z
LAST-MODIFIED:20230922T171925Z
UID:18849-1669291200-1669298400@coveocean.com
SUMMARY:Ocean Connector: Talk and Tour at JASCO Applied Sciences
DESCRIPTION:We are taking our Ocean Connector on the road! Join us at JASCO Applied Sciences’ for a talk\, tour and network with the ocean community. \nJASCO Applied Sciences are our hosts for this month’s Ocean Connector! Join us at their 20 Mount Hope Ave. facility for a tour and talk with JASCO’s Project Scientist\, Dr. Katie Kowarski and Engineering and Business Development Manager\, John Moloney. \nJoin in the discussion with Dr. Kowarksi as she shares information on JASCO’s Observer on Oceanic Gliders. JASCO has been incorporating its OceanObserver technology into autonomous mobile platforms\, including ocean gliders\, for the last five years. One recent collaboration with the Universidad de las Palmas de Gran Canaria resulted in collecting five days of data from a glider deployed off the Canary Islands. Post-retrieval data analysis revealed that seven cetacean species’ vocalizations were recorded. Three beaked whale clicks were identified – one from Cuvier’s beaked whales\, one from Blainville’s beaked whales\, and one from an unknown species\, which may represent the identification of an undescribed species in these waters. \nLearn about the SMELTS-JASCO Whale-Raft project\, which combines ropeless fishing with passive acoustic monitoring. JASCO Applied Sciences is a partner with the Sea Mammal Education Learning Technology Society (SMELTS) to demonstrate\, train\, and enable indigenous fishers from Miawpukek First Nation (MFN)/ Netukulimk Fisheries Limited (NFL) in whale-safe (ropeless) fishing and acoustic data collection.
URL:https://coveocean.com/event/ocean-connector-talk-and-tour-at-jasco-applied-sciences-2/
LOCATION:COVE\, 27 Parker Street\, Dartmouth\, NS\, B2Y 4T5\, Canada
CATEGORIES:Halifax,Ocean Connector
ATTACH;FMTTYPE=image/png:https://coveocean.com/wp-content/uploads/2023/09/Ocean-Connector-graphic-Jasco-Applied-Sciences-2000x1000-1.png
END:VEVENT
BEGIN:VEVENT
DTSTART;TZID=America/Halifax:20221027T130000
DTEND;TZID=America/Halifax:20221027T150000
DTSTAMP:20260422T220917
CREATED:20230922T172018Z
LAST-MODIFIED:20230922T172018Z
UID:18846-1666875600-1666882800@coveocean.com
SUMMARY:Ocean Connector: Integrating ESGs into your business
DESCRIPTION:There is a rising expectation to integrate environmental\, social\, and governance (ESG) factors into company strategy and decision-making. Small and medium-sized companies (SMEs) are increasingly aware of the benefits of integrating ESGs into their operations – especially as they aim to secure investment and seek export opportunities. \nWith virtually every company being linked to another in some way\, the ESG issues that impact one company will inevitably have an impact on the whole supply chain. Successful integration of ESG will lead to improved risk management\, operational performance\, reputation and employee engagement. \nJoin us to learn more about ESG adoption\, the benefits it offers\, and the role it plays in supporting inclusive\, sustainable growth in the transition to a low-carbon economy. \nMeet the speaker:  \nNancy Foran\, FCPA\, FCMA\, C. Dir. is President and Founder of Nova Scotia-based ESG Partners Inc\,\, providing guidance to companies\, investors\, boards of directors and leadership teams as they incorporate ESG factors into strategies that create long-term\, sustainable value. \nWith extensive local and international experience\, she has worked with start-ups through to multinational organizations\, investors\, government and regulators\, and has navigated regional\, national and international complex\, multi-stakeholder environments.
URL:https://coveocean.com/event/ocean-connector-integrating-esgs-into-your-business-2/
LOCATION:COVE\, 27 Parker Street\, Dartmouth\, NS\, B2Y 4T5\, Canada
CATEGORIES:Halifax,Ocean Connector
ATTACH;FMTTYPE=image/png:https://coveocean.com/wp-content/uploads/2023/09/Ocean-Connector-October-2022.png
END:VEVENT
BEGIN:VEVENT
DTSTART;TZID=America/Halifax:20220922T130000
DTEND;TZID=America/Halifax:20220922T150000
DTSTAMP:20260422T220917
CREATED:20230922T172102Z
LAST-MODIFIED:20230922T172102Z
UID:18844-1663851600-1663858800@coveocean.com
SUMMARY:Ocean Connector: Talent Attraction and Retention in an Employee’s Market
DESCRIPTION:Currently\, in the Canadian labour market\, almost every employer has the attraction and retention of talent as a top priority. Employers understand that the employees they seek to hire and retain are in the driver’s seat. But do they understand what motivates their talent to join and remain at their company now? More importantly\, what steps can they take to do this? \nTanya Lush\, Director of Workforce Development\, will discuss the latest trends in HR\, the labour market\, and redefining the workplace with subject matter expert Katherine Risley\, Managing Partner of KBRS & Meridia Recruitment Solutions. \nKatherine Risley is an experienced recruiter and trained coach. In addition to leading a recruitment practice that attracts engineering\, operations\, and manufacturing professionals\, she provides oversight to KBRS’s HR consulting and talent development practice. \nTanya Lush and her team lead innovative and engaging talent development opportunities and projects that span the entire scope of ocean career literacy\, early career competencies\, skill set acquisition and overall talent development for the ocean sector in Atlantic Canada. Her work focuses on building a continuum of the talent pipeline for the Sustainable Blue Economy (SBE) that engages with all ages and stages of the career development cycle.
URL:https://coveocean.com/event/ocean-connector-talent-attraction-and-retention-in-an-employees-market-2/
LOCATION:COVE\, 27 Parker Street\, Dartmouth\, NS\, B2Y 4T5\, Canada
CATEGORIES:Halifax,Ocean Connector
ATTACH;FMTTYPE=image/png:https://coveocean.com/wp-content/uploads/2023/09/Ocean-Connector-Sep-2022.png
END:VEVENT
END:VCALENDAR