BEGIN:VCALENDAR
VERSION:2.0
PRODID:-//COVE - ECPv6.15.20//NONSGML v1.0//EN
CALSCALE:GREGORIAN
METHOD:PUBLISH
X-ORIGINAL-URL:https://coveocean.com
X-WR-CALDESC:Events for COVE
REFRESH-INTERVAL;VALUE=DURATION:PT1H
X-Robots-Tag:noindex
X-PUBLISHED-TTL:PT1H
BEGIN:VTIMEZONE
TZID:America/Halifax
BEGIN:DAYLIGHT
TZOFFSETFROM:-0400
TZOFFSETTO:-0300
TZNAME:ADT
DTSTART:20250309T060000
END:DAYLIGHT
BEGIN:STANDARD
TZOFFSETFROM:-0300
TZOFFSETTO:-0400
TZNAME:AST
DTSTART:20251102T050000
END:STANDARD
BEGIN:DAYLIGHT
TZOFFSETFROM:-0400
TZOFFSETTO:-0300
TZNAME:ADT
DTSTART:20260308T060000
END:DAYLIGHT
BEGIN:STANDARD
TZOFFSETFROM:-0300
TZOFFSETTO:-0400
TZNAME:AST
DTSTART:20261101T050000
END:STANDARD
BEGIN:DAYLIGHT
TZOFFSETFROM:-0400
TZOFFSETTO:-0300
TZNAME:ADT
DTSTART:20270314T060000
END:DAYLIGHT
BEGIN:STANDARD
TZOFFSETFROM:-0300
TZOFFSETTO:-0400
TZNAME:AST
DTSTART:20271107T050000
END:STANDARD
END:VTIMEZONE
BEGIN:VEVENT
DTSTART;VALUE=DATE:20260323
DTEND;VALUE=DATE:20260327
DTSTAMP:20260422T190543
CREATED:20260102T191011Z
LAST-MODIFIED:20260102T191011Z
UID:24892-1774224000-1774569599@coveocean.com
SUMMARY:MTS Buoy Workshop
DESCRIPTION:The 16th Buoy Workshop\, organized by the Marine Technology Society (MTS)\, is a premier biennial event for professionals in buoy technology and its applications across oceanographic\, weather\, and other marine systems. Since 1996\, the Workshop has brought together engineers\, designers\, operators\, and scientists from around the world to share knowledge\, showcase innovations\, and collaborate on solutions for the marine sector. \nTaking place March 23–26\, 2026\, the event features pre-workshop seminars\, technical presentations\, keynote sessions\, panel discussions\, facility tours\, and networking opportunities. It provides a platform to explore the latest advancements in buoy and mooring systems\, supporting ocean observation\, engineering innovation\, and data-driven insights for the global marine community.
URL:https://coveocean.com/event/mts-buoy-workshop/
CATEGORIES:Education Workshop,Innovation,Marine Technology
ATTACH;FMTTYPE=image/png:https://coveocean.com/wp-content/uploads/2026/01/2026-MTS-Buoy-workshop.avif
END:VEVENT
BEGIN:VEVENT
DTSTART;VALUE=DATE:20260527
DTEND;VALUE=DATE:20260529
DTSTAMP:20260422T190543
CREATED:20260417T145354Z
LAST-MODIFIED:20260417T145354Z
UID:25723-1779840000-1780012799@coveocean.com
SUMMARY:CANSEC 2026
DESCRIPTION:CANSEC is Canada’s premier defence and security trade show\, bringing together government\, military\, industry\, and academia to showcase the latest innovations and capabilities across the defence and security sectors. Hosted annually by the Canadian Association of Defence and Security Industries (CADSI)\, the event attracts senior decision‑makers\, policymakers\, and global partners from across Canada and allied nations. \nCANSEC 2026 will feature hundreds of exhibitors\, expert panels\, keynote presentations\, and networking opportunities focused on advancing technologies\, strengthening domestic supply chains\, and fostering collaboration in areas such as maritime defence\, aerospace\, cyber security\, AI\, and dual‑use innovation. \nCOVE participants will have the opportunity to highlight marine‑related technologies\, connect with defence and security stakeholders\, and explore partnerships that support innovation\, commercialization\, and operational readiness in Canada’s defence ecosystem.
URL:https://coveocean.com/event/cansec-2026/
LOCATION:EY Centre\, Ottawa\, 4899 Uplands Drive\, Ottawa\, Ontario\, K1V 2N6\, Canada
CATEGORIES:Conference,Defence,Dual-Use,Innovation,Marine Technology
ATTACH;FMTTYPE=image/png:https://coveocean.com/wp-content/uploads/2026/04/CANSEC-website.png
END:VEVENT
BEGIN:VEVENT
DTSTART;VALUE=DATE:20260608
DTEND;VALUE=DATE:20260611
DTSTAMP:20260422T190543
CREATED:20260417T150058Z
LAST-MODIFIED:20260417T150320Z
UID:25726-1780876800-1781135999@coveocean.com
SUMMARY:H2O: Home to Overseas Conference 2026
DESCRIPTION:The H2O: Home to Overseas Conference returns to the Halifax Convention Centre on June 8–10\, bringing together marine technology leaders from across Canada and around the world. Hosted by the Ocean Technology Council of Nova Scotia in partnership with government and industry\, the conference features expert panels\, exhibits\, workshops\, and B2B meetings designed to connect innovators with partners\, customers\, and investors across the global marine technology sector. \nRecognized as one of Canada’s premier gatherings for marine technology\, the event provides a platform to explore emerging technologies\, international market opportunities\, and collaboration across sectors such as maritime security\, offshore energy\, aquaculture\, and marine data systems. \nThe conference will conclude with COVE Demo Day on June 11\, where technologies move from discussion to live demonstration. Registration for the H2O Conference and COVE Demo Day are separate\, and attendees are encouraged to register for both events to experience the full week of programming and innovation.
URL:https://coveocean.com/event/h2o-home-to-overseas-conference-2026/
LOCATION:Halifax Convention Centre\, 1650 Argyle St\, Halifax\, Nova Scotia\, B3J 0E6\, Canada
CATEGORIES:Conference,H2O Conference,Halifax,Innovation,Marine Technology
ATTACH;FMTTYPE=image/png:https://coveocean.com/wp-content/uploads/2024/12/H2O-Conference-1.png
END:VEVENT
END:VCALENDAR