BEGIN:VCALENDAR
VERSION:2.0
PRODID:-//COVE - ECPv6.15.20//NONSGML v1.0//EN
CALSCALE:GREGORIAN
METHOD:PUBLISH
X-WR-CALNAME:COVE
X-ORIGINAL-URL:https://coveocean.com
X-WR-CALDESC:Events for COVE
REFRESH-INTERVAL;VALUE=DURATION:PT1H
X-Robots-Tag:noindex
X-PUBLISHED-TTL:PT1H
BEGIN:VTIMEZONE
TZID:America/Halifax
BEGIN:DAYLIGHT
TZOFFSETFROM:-0400
TZOFFSETTO:-0300
TZNAME:ADT
DTSTART:20240310T060000
END:DAYLIGHT
BEGIN:STANDARD
TZOFFSETFROM:-0300
TZOFFSETTO:-0400
TZNAME:AST
DTSTART:20241103T050000
END:STANDARD
BEGIN:DAYLIGHT
TZOFFSETFROM:-0400
TZOFFSETTO:-0300
TZNAME:ADT
DTSTART:20250309T060000
END:DAYLIGHT
BEGIN:STANDARD
TZOFFSETFROM:-0300
TZOFFSETTO:-0400
TZNAME:AST
DTSTART:20251102T050000
END:STANDARD
BEGIN:DAYLIGHT
TZOFFSETFROM:-0400
TZOFFSETTO:-0300
TZNAME:ADT
DTSTART:20260308T060000
END:DAYLIGHT
BEGIN:STANDARD
TZOFFSETFROM:-0300
TZOFFSETTO:-0400
TZNAME:AST
DTSTART:20261101T050000
END:STANDARD
BEGIN:DAYLIGHT
TZOFFSETFROM:-0400
TZOFFSETTO:-0300
TZNAME:ADT
DTSTART:20270314T060000
END:DAYLIGHT
BEGIN:STANDARD
TZOFFSETFROM:-0300
TZOFFSETTO:-0400
TZNAME:AST
DTSTART:20271107T050000
END:STANDARD
END:VTIMEZONE
BEGIN:VEVENT
DTSTART;VALUE=DATE:20251112
DTEND;VALUE=DATE:20251115
DTSTAMP:20260422T190911
CREATED:20251020T130145Z
LAST-MODIFIED:20251020T182513Z
UID:24712-1762905600-1763164799@coveocean.com
SUMMARY:Marine Renewables Canada 2025
DESCRIPTION:Join the marine energy community this November 12–14\, 2025\, in Halifax\, Nova Scotia for Marine Renewables Canada (MRC) 2025 Conference & Exhibition—Canada’s premier gathering for marine renewable-energy innovation. \nThis year’s event offers an expanded format including: \n\nA full trade show and exhibition spotlighting technologies\, services\, and emerging players in the sector\nWorkshops hosted by industry members\, offering deep dives into technical\, policy\, and market themes\nConcurrent sessions covering R&D\, regulatory updates\, and strategic trends in marine renewables\nEnhanced networking and B2B matchmaking opportunities to spark collaboration and partnerships\n\nAs a Canadian hub for marine technology\, COVE is excited to follow the conversations and innovations emerging at MRC 2025—and we look forward to seeing how this can accelerate growth across our maritime ecosystem.
URL:https://coveocean.com/event/marine-renewables-canada-2025/
LOCATION:Halifax Convention Centre\, 1650 Argyle St\, Halifax\, Nova Scotia\, B3J 0E6\, Canada
CATEGORIES:Conference,Marine Technology,Renewable energy
ATTACH;FMTTYPE=image/png:https://coveocean.com/wp-content/uploads/2025/10/MRC-resized.avif
END:VEVENT
BEGIN:VEVENT
DTSTART;VALUE=DATE:20260204
DTEND;VALUE=DATE:20260206
DTSTAMP:20260422T190911
CREATED:20260102T185341Z
LAST-MODIFIED:20260102T185341Z
UID:24888-1770163200-1770335999@coveocean.com
SUMMARY:SUBSEA EXPO
DESCRIPTION:Subsea Expo\, organized by Global Underwater Hub\, is one of the world’s leading subsea exhibitions and conferences\, bringing together the global underwater and subsea sectors at P&J Live in Aberdeen. Held annually and free to attend\, the event attracts thousands of professionals\, with over 100 exhibiting companies and thousands of delegates from around the world. Subsea Expo features a dynamic\, multi‑stream conference running alongside a large exhibition\, showcasing the latest technologies\, innovations\, and operational capabilities across the subsea and underwater industry. The event also includes the prestigious Subsea Expo Awards\, celebrating excellence among individuals and companies shaping the future of the sector.
URL:https://coveocean.com/event/subsea-expo-4/
LOCATION:J&P Live\, East Burn Road\, Aberdeen\, Scotland\, United Kingdom
CATEGORIES:Conference,Innovation,Marine Technology
ATTACH;FMTTYPE=image/png:https://coveocean.com/wp-content/uploads/2023/12/subsea-expo-website.png
END:VEVENT
BEGIN:VEVENT
DTSTART;VALUE=DATE:20260209
DTEND;VALUE=DATE:20260213
DTSTAMP:20260422T190911
CREATED:20251117T133824Z
LAST-MODIFIED:20251117T134901Z
UID:24805-1770595200-1770940799@coveocean.com
SUMMARY:Blue Innovation Symposium
DESCRIPTION:The Blue Innovation Symposium is a leading annual gathering in Newport\, Rhode Island that brings together innovators\, investors\, policymakers\, and scientists from across the marine technology sector. Over three days\, participants engage in high-impact panels\, lightning “flash talks\,” ecosystem tours\, and networking sessions designed to spark collaboration\, drive investment\, and shape the future of the marine economy. With hundreds of delegates each year\, the Symposium is a hub for education\, partnerships\, and matchmaking in marine tech.
URL:https://coveocean.com/event/blue-innovation-symposium-5/
LOCATION:Wyndham Newport Hotel\, 240 Aquidneck Middletown\, Rhode Island\, RI\, 02842\, United States
CATEGORIES:Conference,Innovation,Marine Technology
ATTACH;FMTTYPE=image/png:https://coveocean.com/wp-content/uploads/2024/12/Blue-Innovation-Symposium.png
ORGANIZER;CN="Blue Innovation Symposium":MAILTO:info@blueinnovationsymposium.com
END:VEVENT
BEGIN:VEVENT
DTSTART;VALUE=DATE:20260222
DTEND;VALUE=DATE:20260228
DTSTAMP:20260422T190911
CREATED:20251020T130903Z
LAST-MODIFIED:20251020T130903Z
UID:24715-1771718400-1772236799@coveocean.com
SUMMARY:Ocean Sciences Meeting 2026
DESCRIPTION:Join the global ocean science community at OSM26\, to be held in Glasgow\, Scotland\, where leading researchers\, industry practitioners\, policymakers\, and innovators will converge to share cutting-edge discoveries and drive forward solutions for sustainable ocean futures. \nAs the flagship conference for ocean sciences\, OSM26 offers unparalleled opportunities for collaboration\, knowledge exchange\, and networking across diverse fields—from marine ecosystems and climate change impacts to technology\, policy\, and sustainability. With strong ties to the United Nations Decade of Ocean Science for Sustainable Development (2021–2030)\, the meeting emphasizes real-world impact and collective action in response to the climate crisis. \nGlasgow’s host commitment to sustainability is reflected in its Net Zero events policies\, waste reduction goals\, and local sourcing practices—making it a fitting backdrop for a gathering focused on the future of our oceans.
URL:https://coveocean.com/event/ocean-sciences-meeting-2026/
LOCATION:Scottish Event Campus\, Exhibition Way\, Glasgow\, Scotland
CATEGORIES:Conference,Marine Technology
ATTACH;FMTTYPE=image/png:https://coveocean.com/wp-content/uploads/2025/10/OSM-2026-resized.avif
END:VEVENT
BEGIN:VEVENT
DTSTART;TZID=America/Halifax:20260226T160000
DTEND;TZID=America/Halifax:20260226T180000
DTSTAMP:20260422T190911
CREATED:20260202T151103Z
LAST-MODIFIED:20260203T134621Z
UID:25061-1772121600-1772128800@coveocean.com
SUMMARY:Ocean Connector: From Concept to At-Sea Reality
DESCRIPTION:How do marine and defence technologies move from concept to operational deployment? This Ocean Connector brings together leaders from Ultra Maritime\, Hawboldt Industries\, and DRDC to explore how modular systems\, collaboration\, and access to testing infrastructure can accelerate innovation and reduce risk. \nUsing real-world examples\, the discussion will highlight how advanced sensing and containerized technologies can move from development to deployable solutions\, unlocking commercial\, dual-use\, and export opportunities. \nDesigned for industry leaders\, innovators\, investors\, and decision-makers\, this session offers practical insights on bringing technology out of the lab and into real-world use.
URL:https://coveocean.com/event/ocean-connector-from-concept-to-at-sea-reality/
CATEGORIES:COVE,Defence,Marine Technology,Ocean Connector
ATTACH;FMTTYPE=image/png:https://coveocean.com/wp-content/uploads/2026/02/Ocean-Connector-From-Concept-to-At-Sea-Reality-2.avif
END:VEVENT
BEGIN:VEVENT
DTSTART;VALUE=DATE:20260310
DTEND;VALUE=DATE:20260313
DTSTAMP:20260422T190911
CREATED:20251020T180626Z
LAST-MODIFIED:20251020T180750Z
UID:24726-1773100800-1773359999@coveocean.com
SUMMARY:Oceanology International London
DESCRIPTION:Connecting The Global Ocean Technology Community\n\n\n\n\nUnleash the potential of your ocean endeavours at Oceanology International\, the industry’s leading event. Explore cutting-edge technologies and solutions from across the entire ocean science and technology spectrum. Collaborate\, share knowledge\, and forge new partnerships with a global network of ocean pioneers. \nExperience innovative live on-water Demonstrations: witness the future of ocean tech come to life with interactive displays. Join interactive seminars led by experts: gain insights and shape the course of the ocean’s future alongside leading minds. \nBe part of the most successful ocean tech and science show in the world. Get the latest event news\, industry updates and insights and connect with a growing and vibrant community.
URL:https://coveocean.com/event/oceanology-international-london/
LOCATION:ExCel London\, London\, United Kingdom
CATEGORIES:Conference,Marine Technology
ATTACH;FMTTYPE=image/png:https://coveocean.com/wp-content/uploads/2025/10/Oi-2026-1.avif
END:VEVENT
BEGIN:VEVENT
DTSTART;VALUE=DATE:20260323
DTEND;VALUE=DATE:20260327
DTSTAMP:20260422T190911
CREATED:20260102T191011Z
LAST-MODIFIED:20260102T191011Z
UID:24892-1774224000-1774569599@coveocean.com
SUMMARY:MTS Buoy Workshop
DESCRIPTION:The 16th Buoy Workshop\, organized by the Marine Technology Society (MTS)\, is a premier biennial event for professionals in buoy technology and its applications across oceanographic\, weather\, and other marine systems. Since 1996\, the Workshop has brought together engineers\, designers\, operators\, and scientists from around the world to share knowledge\, showcase innovations\, and collaborate on solutions for the marine sector. \nTaking place March 23–26\, 2026\, the event features pre-workshop seminars\, technical presentations\, keynote sessions\, panel discussions\, facility tours\, and networking opportunities. It provides a platform to explore the latest advancements in buoy and mooring systems\, supporting ocean observation\, engineering innovation\, and data-driven insights for the global marine community.
URL:https://coveocean.com/event/mts-buoy-workshop/
CATEGORIES:Education Workshop,Innovation,Marine Technology
ATTACH;FMTTYPE=image/png:https://coveocean.com/wp-content/uploads/2026/01/2026-MTS-Buoy-workshop.avif
END:VEVENT
BEGIN:VEVENT
DTSTART;VALUE=DATE:20260527
DTEND;VALUE=DATE:20260529
DTSTAMP:20260422T190911
CREATED:20260417T145354Z
LAST-MODIFIED:20260417T145354Z
UID:25723-1779840000-1780012799@coveocean.com
SUMMARY:CANSEC 2026
DESCRIPTION:CANSEC is Canada’s premier defence and security trade show\, bringing together government\, military\, industry\, and academia to showcase the latest innovations and capabilities across the defence and security sectors. Hosted annually by the Canadian Association of Defence and Security Industries (CADSI)\, the event attracts senior decision‑makers\, policymakers\, and global partners from across Canada and allied nations. \nCANSEC 2026 will feature hundreds of exhibitors\, expert panels\, keynote presentations\, and networking opportunities focused on advancing technologies\, strengthening domestic supply chains\, and fostering collaboration in areas such as maritime defence\, aerospace\, cyber security\, AI\, and dual‑use innovation. \nCOVE participants will have the opportunity to highlight marine‑related technologies\, connect with defence and security stakeholders\, and explore partnerships that support innovation\, commercialization\, and operational readiness in Canada’s defence ecosystem.
URL:https://coveocean.com/event/cansec-2026/
LOCATION:EY Centre\, Ottawa\, 4899 Uplands Drive\, Ottawa\, Ontario\, K1V 2N6\, Canada
CATEGORIES:Conference,Defence,Dual-Use,Innovation,Marine Technology
ATTACH;FMTTYPE=image/png:https://coveocean.com/wp-content/uploads/2026/04/CANSEC-website.png
END:VEVENT
BEGIN:VEVENT
DTSTART;VALUE=DATE:20260608
DTEND;VALUE=DATE:20260611
DTSTAMP:20260422T190911
CREATED:20260417T150058Z
LAST-MODIFIED:20260417T150320Z
UID:25726-1780876800-1781135999@coveocean.com
SUMMARY:H2O: Home to Overseas Conference 2026
DESCRIPTION:The H2O: Home to Overseas Conference returns to the Halifax Convention Centre on June 8–10\, bringing together marine technology leaders from across Canada and around the world. Hosted by the Ocean Technology Council of Nova Scotia in partnership with government and industry\, the conference features expert panels\, exhibits\, workshops\, and B2B meetings designed to connect innovators with partners\, customers\, and investors across the global marine technology sector. \nRecognized as one of Canada’s premier gatherings for marine technology\, the event provides a platform to explore emerging technologies\, international market opportunities\, and collaboration across sectors such as maritime security\, offshore energy\, aquaculture\, and marine data systems. \nThe conference will conclude with COVE Demo Day on June 11\, where technologies move from discussion to live demonstration. Registration for the H2O Conference and COVE Demo Day are separate\, and attendees are encouraged to register for both events to experience the full week of programming and innovation.
URL:https://coveocean.com/event/h2o-home-to-overseas-conference-2026/
LOCATION:Halifax Convention Centre\, 1650 Argyle St\, Halifax\, Nova Scotia\, B3J 0E6\, Canada
CATEGORIES:Conference,H2O Conference,Halifax,Innovation,Marine Technology
ATTACH;FMTTYPE=image/png:https://coveocean.com/wp-content/uploads/2024/12/H2O-Conference-1.png
END:VEVENT
END:VCALENDAR