BEGIN:VCALENDAR
VERSION:2.0
PRODID:-//COVE - ECPv6.15.20//NONSGML v1.0//EN
CALSCALE:GREGORIAN
METHOD:PUBLISH
X-WR-CALNAME:COVE
X-ORIGINAL-URL:https://coveocean.com
X-WR-CALDESC:Events for COVE
REFRESH-INTERVAL;VALUE=DURATION:PT1H
X-Robots-Tag:noindex
X-PUBLISHED-TTL:PT1H
BEGIN:VTIMEZONE
TZID:America/Halifax
BEGIN:DAYLIGHT
TZOFFSETFROM:-0400
TZOFFSETTO:-0300
TZNAME:ADT
DTSTART:20230312T060000
END:DAYLIGHT
BEGIN:STANDARD
TZOFFSETFROM:-0300
TZOFFSETTO:-0400
TZNAME:AST
DTSTART:20231105T050000
END:STANDARD
BEGIN:DAYLIGHT
TZOFFSETFROM:-0400
TZOFFSETTO:-0300
TZNAME:ADT
DTSTART:20240310T060000
END:DAYLIGHT
BEGIN:STANDARD
TZOFFSETFROM:-0300
TZOFFSETTO:-0400
TZNAME:AST
DTSTART:20241103T050000
END:STANDARD
BEGIN:DAYLIGHT
TZOFFSETFROM:-0400
TZOFFSETTO:-0300
TZNAME:ADT
DTSTART:20250309T060000
END:DAYLIGHT
BEGIN:STANDARD
TZOFFSETFROM:-0300
TZOFFSETTO:-0400
TZNAME:AST
DTSTART:20251102T050000
END:STANDARD
END:VTIMEZONE
BEGIN:VEVENT
DTSTART;VALUE=DATE:20240902
DTEND;VALUE=DATE:20240907
DTSTAMP:20260422T221335
CREATED:20240118T210732Z
LAST-MODIFIED:20240118T210732Z
UID:20063-1725303600-1725649199@coveocean.com
SUMMARY:SMM 2024
DESCRIPTION:The world’s leading trade fair for the maritime industry\nWith over 2\,000 exhibitors and about 40\,000 visitors from all over the world\, SMM continues to cement its position as the most important event in the maritime industry calendar. \nThe trade fair offers a perfect stage for gathering insights\, networking\, cementing business deals and contributing to debates with the thought leaders in this sector.
URL:https://coveocean.com/event/smm-2024/
LOCATION:Hamburg Messe und Congress GmbH\, Messeplatz 1\, Hamburg\, 20357\, Germany
CATEGORIES:Germany,Marine Technology
ATTACH;FMTTYPE=image/png:https://coveocean.com/wp-content/uploads/2024/01/Untitled-design-1-3.png
END:VEVENT
END:VCALENDAR