BEGIN:VCALENDAR
VERSION:2.0
PRODID:-//COVE - ECPv6.15.20//NONSGML v1.0//EN
CALSCALE:GREGORIAN
METHOD:PUBLISH
X-ORIGINAL-URL:https://coveocean.com
X-WR-CALDESC:Events for COVE
REFRESH-INTERVAL;VALUE=DURATION:PT1H
X-Robots-Tag:noindex
X-PUBLISHED-TTL:PT1H
BEGIN:VTIMEZONE
TZID:America/Halifax
BEGIN:DAYLIGHT
TZOFFSETFROM:-0400
TZOFFSETTO:-0300
TZNAME:ADT
DTSTART:20220313T060000
END:DAYLIGHT
BEGIN:STANDARD
TZOFFSETFROM:-0300
TZOFFSETTO:-0400
TZNAME:AST
DTSTART:20221106T050000
END:STANDARD
BEGIN:DAYLIGHT
TZOFFSETFROM:-0400
TZOFFSETTO:-0300
TZNAME:ADT
DTSTART:20230312T060000
END:DAYLIGHT
BEGIN:STANDARD
TZOFFSETFROM:-0300
TZOFFSETTO:-0400
TZNAME:AST
DTSTART:20231105T050000
END:STANDARD
BEGIN:DAYLIGHT
TZOFFSETFROM:-0400
TZOFFSETTO:-0300
TZNAME:ADT
DTSTART:20240310T060000
END:DAYLIGHT
BEGIN:STANDARD
TZOFFSETFROM:-0300
TZOFFSETTO:-0400
TZNAME:AST
DTSTART:20241103T050000
END:STANDARD
END:VTIMEZONE
BEGIN:VEVENT
DTSTART;VALUE=DATE:20231113
DTEND;VALUE=DATE:20231119
DTSTAMP:20260425T074650
CREATED:20230918T162725Z
LAST-MODIFIED:20230922T031431Z
UID:18764-1699905600-1700337599@coveocean.com
SUMMARY:BlueTech Week
DESCRIPTION:Come celebrate the 15th annual BlueTech Week by MAXIMIZING IMPACT! \nBlueTech Week is all about the companies and the people driving the sustainable Blue Economy. It’s the annual event where hundreds of senior international participants collaborate and innovate on our toughest water and ocean challenges. \nThose interested in attending can take advantage of Early-Bird pricing with 10% off all ticket types until 11:59 p.m. on Friday\, September 22. \n \nAt the event you will: \n\nLearn and educate about the UN 2030 Agenda\nNetwork with potential investors\, partners and customers\nExpand a regional footprint (assuming it is reasonably proximate to the mature cluster)\nJoin the international BlueTech community
URL:https://coveocean.com/event/bluetech-week-2/
LOCATION:Scripps Institution of Oceanography
CATEGORIES:Marine Technology
ATTACH;FMTTYPE=image/png:https://coveocean.com/wp-content/uploads/2023/09/9.png
END:VEVENT
BEGIN:VEVENT
DTSTART;TZID=America/Halifax:20231114T043000
DTEND;TZID=America/Halifax:20231115T083000
DTSTAMP:20260425T074650
CREATED:20230918T161109Z
LAST-MODIFIED:20231025T122531Z
UID:18762-1699936200-1700037000@coveocean.com
SUMMARY:Rostock Ocean Convention 2023
DESCRIPTION:The Rostock Ocean Convention brings together companies and scientists from Germany\, Europe and worldwide in the field of maritime industries and underwater technology. This is a unique opportunity to generate new business contacts and contracts. The Rostock Ocean Convention focuses on the current developments\, trends and projects in maritime and underwater technology. \nCOVE has a strong relationship with Germany and Melanie Nadeau\, CEO\, Michel Lechmann\, VP of Growth\, and James Kesten\, Director of Strategic Partnerships at COVE will be attending the convention to focus on joint commitments and build new connections with those across the marine industry. \nTopics addressed: \n\nTrends and projects in marine development\nDigital underwater technology\nTalents / International Ocean Accelerator\nPolitical & regulatory framework for sustainable use of the ocean\nOffshore maintenance and energy supply\nAquaculture\n\nWhy participate? \n\nAs a company – find qualified business cooperation partners or get in touch with underwater scientists\nAs scientists – find new research and project cooperation partners\nAs a product developer – find partners to discuss new technology and innovative solutions\n\nHow can you benefit from this event? \n\nPublish and showcase your products\, projects\, services or business needs to event participants\nInitiate and arrange promising pre-scheduled meetings at the event (very important)\nGenerate fresh leads and meet new contacts in a timely and cost-efficient way\nStay one step ahead of your competitors by being seen and visibly present at the event
URL:https://coveocean.com/event/rostock-ocean-convention-2023/
LOCATION:HanseMesse Rostock\, Zur HanseMesse 1-2\, Rostock\, 18106\, Germany
CATEGORIES:Germany,Marine Technology
ATTACH;FMTTYPE=image/png:https://coveocean.com/wp-content/uploads/2023/09/14-November-2023-15-November-2023-Rostock-Germany-Rostock-Ocean-Convention-2023-3.png
END:VEVENT
BEGIN:VEVENT
DTSTART;VALUE=DATE:20231129
DTEND;VALUE=DATE:20231202
DTSTAMP:20260425T074650
CREATED:20231123T142458Z
LAST-MODIFIED:20231123T142458Z
UID:19129-1701216000-1701475199@coveocean.com
SUMMARY:International WorkBoat Show
DESCRIPTION:Build your knowledge\, your network\, and unstoppable momentum\nFrom broad ranging panels with some of the industry’s most respected players\, to in-depth discussions with companies on the cutting edge of marine technology\, to multiple face to face opportunities to hear what is on the agenda for both the U.S. Navy and Coast Guard.  There is no better time and place to connect with the industry than the International WorkBoat Show. \nFrom November 29 – December 1\, 2023 Commercial Mariners from around the world will unite once again in New Orleans for the International WorkBoat Show. \nEach year\, over 15\,000 people return to network\, discover new products\, and learn about evolving issues affecting the industry – from expert keynote speakers\, innovative exhibitors\, and most importantly\, each other. \nAt The International WorkBoat Show\, you’ll find thousands of solutions\, strategies\, technologies\, and ideas to give your business an edge in 2023 and beyond. And you’ll find loyal exhibitors offering demos\, special presentations\, partnerships and deals to help you power through these turbulent times. \nRegister by 11/28 to reserve your free spot.
URL:https://coveocean.com/event/international-workboat-show/
LOCATION:Ernest N. Morial Convention Center\, 900 Convention Center Blvd.\, New Orleans\, LA\, 70130\, United States
CATEGORIES:Conference,Marine Technology
ATTACH;FMTTYPE=image/jpeg:https://coveocean.com/wp-content/uploads/2023/11/International-WorkBoat-Show.jpg
END:VEVENT
END:VCALENDAR