BEGIN:VCALENDAR
VERSION:2.0
PRODID:-//COVE - ECPv6.15.20//NONSGML v1.0//EN
CALSCALE:GREGORIAN
METHOD:PUBLISH
X-ORIGINAL-URL:https://coveocean.com
X-WR-CALDESC:Events for COVE
REFRESH-INTERVAL;VALUE=DURATION:PT1H
X-Robots-Tag:noindex
X-PUBLISHED-TTL:PT1H
BEGIN:VTIMEZONE
TZID:America/Halifax
BEGIN:DAYLIGHT
TZOFFSETFROM:-0400
TZOFFSETTO:-0300
TZNAME:ADT
DTSTART:20230312T060000
END:DAYLIGHT
BEGIN:STANDARD
TZOFFSETFROM:-0300
TZOFFSETTO:-0400
TZNAME:AST
DTSTART:20231105T050000
END:STANDARD
BEGIN:DAYLIGHT
TZOFFSETFROM:-0400
TZOFFSETTO:-0300
TZNAME:ADT
DTSTART:20240310T060000
END:DAYLIGHT
BEGIN:STANDARD
TZOFFSETFROM:-0300
TZOFFSETTO:-0400
TZNAME:AST
DTSTART:20241103T050000
END:STANDARD
BEGIN:DAYLIGHT
TZOFFSETFROM:-0400
TZOFFSETTO:-0300
TZNAME:ADT
DTSTART:20250309T060000
END:DAYLIGHT
BEGIN:STANDARD
TZOFFSETFROM:-0300
TZOFFSETTO:-0400
TZNAME:AST
DTSTART:20251102T050000
END:STANDARD
BEGIN:DAYLIGHT
TZOFFSETFROM:-0400
TZOFFSETTO:-0300
TZNAME:ADT
DTSTART:20260308T060000
END:DAYLIGHT
BEGIN:STANDARD
TZOFFSETFROM:-0300
TZOFFSETTO:-0400
TZNAME:AST
DTSTART:20261101T050000
END:STANDARD
BEGIN:DAYLIGHT
TZOFFSETFROM:-0400
TZOFFSETTO:-0300
TZNAME:ADT
DTSTART:20270314T060000
END:DAYLIGHT
BEGIN:STANDARD
TZOFFSETFROM:-0300
TZOFFSETTO:-0400
TZNAME:AST
DTSTART:20271107T050000
END:STANDARD
END:VTIMEZONE
BEGIN:VEVENT
DTSTART;VALUE=DATE:20240316
DTEND;VALUE=DATE:20240320
DTSTAMP:20260425T130109
CREATED:20240205T185734Z
LAST-MODIFIED:20240222T144615Z
UID:20313-1710561600-1710820799@coveocean.com
SUMMARY:Ocean Institute: Deep Dive into Data Workshop | Victoria\, BC
DESCRIPTION:Join COVE for a FREE professional development retreat for teachers and educators to learn about bringing ocean data into the classroom! \nNow more than ever\, digital skills and data literacy are in high demand\, particularly in the marine technology sector. The Deep Dive into Data program\, organized by COVE\, provides engaging activities\, immersive experiences\, tutorials and activities to support junior and secondary-level educators in understanding the use of data and coding in classrooms. \nDuring this three-day workshop\, junior high and high school teachers will become familiar with a curriculum designed to pair marine technology and real-time data collected from the ocean. This workshop has interdisciplinary links to a variety of courses to assist teachers in introducing ocean topics into the curriculum. The interactive activities will foster critical thinking\, data analyses and interpretation that you will take back to your classrooms. This engaging program will allow your students to dive into ocean data exploration through group activities and coding tasks\, to navigate real-world situations using creative approaches and valuable skill development used in marine sector work. \nMeals\, mileage\, and accommodations (March 15- March 18) are organized and covered by COVE. More information will be provided by the facilitators upon registration. Click below for more information and to register.
URL:https://coveocean.com/event/ocean-institute-deep-dive-into-data-workshop-victoria-bc/
LOCATION:Oak Bay Beach Hotel\, 1175 Beach Drive\, Victoria\, BC\, V8S 2N2\, Canada
CATEGORIES:COVE,Data,Education Workshop,Innovation,Marine Technology
ATTACH;FMTTYPE=image/jpeg:https://coveocean.com/wp-content/uploads/2024/02/749f01cda1b302d37b35500f383e1b68-UHAktT.tmp_.jpg
END:VEVENT
BEGIN:VEVENT
DTSTART;VALUE=DATE:20240618
DTEND;VALUE=DATE:20240621
DTSTAMP:20260425T130109
CREATED:20240118T210939Z
LAST-MODIFIED:20240118T210939Z
UID:20037-1718668800-1718927999@coveocean.com
SUMMARY:Electric & Hybrid Marine Expo Europe
DESCRIPTION:The world’s leading exhibition and conference for maritime electrification\, decarbonization and GHG reduction solutions returns to Amsterdam – June 2024!\nElectric & Hybrid Marine Expo Europe will showcase new electric and hybrid marine transportation and propulsion solutions\, shore charging equipment and efficient emerging technologies to help you on your path to zero-emission shipping and net zero. \nTaking place alongside the exhibition is the Electric & Hybrid Marine Expo Europe Conference\, the only international conference dedicated to the electrification and hybridization of marine vessels\, along with the associated supporting infrastructure for ports\, charging\, fueling and energy supply.
URL:https://coveocean.com/event/electric-hybrid-marine-expo-europe/
LOCATION:RAI Amsterdam\, Europaplein 24\, 1078 GZ Amsterdam\, Netherlands
CATEGORIES:Europe,Innovation,Marine Technology
ATTACH;FMTTYPE=image/png:https://coveocean.com/wp-content/uploads/2024/01/Untitled-design-1-1.png
END:VEVENT
BEGIN:VEVENT
DTSTART;VALUE=DATE:20240923
DTEND;VALUE=DATE:20240927
DTSTAMP:20260425T130109
CREATED:20240613T213055Z
LAST-MODIFIED:20240613T213055Z
UID:21752-1727049600-1727395199@coveocean.com
SUMMARY:Oceans 2024 Halifax
DESCRIPTION:OCEANS is an annual event for global marine technologists\, engineers\, students\, government officials\, lawyers\, and advocates. At OCEANS 2024 Halifax\, industry thought leaders gather for four days to highlight relevant topics and current trends while creating a community of learners and influencers who consistently advance research\, practices\, and policies for the marine field. \nThe event will feature: \n\nOver 500 professionally reviewed technical papers\, including sessions focused on local themes.\nPlenary sessions with leaders from industry\, academia\, the military and government.\n100+ exhibitors showcasing the latest innovations in products and services.\nA student poster session featuring outstanding projects from around the world and other student activities.\nTraining Sessions\, workshops\, demonstrations\, government listening sessions\, social and networking opportunities\, professional field trips …and much\, much more\n\nThe COVE team will be at Oceans 2024 Halifax to connect with professionals in the marine sector. Find us at booth 311! \nStay tuned for more updates from COVE on the workforce forum portion of the conference.
URL:https://coveocean.com/event/oceans-2024-halifax-2/
LOCATION:Halifax Convention Centre\, 1650 Argyle St\, Halifax\, Nova Scotia\, B3J 0E6\, Canada
CATEGORIES:Halifax,Innovation
ATTACH;FMTTYPE=image/png:https://coveocean.com/wp-content/uploads/2023/07/OCEANS-2024-CCNnewsletter-photos.png
END:VEVENT
BEGIN:VEVENT
DTSTART;TZID=America/Halifax:20241001T080000
DTEND;TZID=America/Halifax:20241003T160000
DTSTAMP:20260425T130109
CREATED:20240613T213404Z
LAST-MODIFIED:20240930T185753Z
UID:21754-1727769600-1727971200@coveocean.com
SUMMARY:DEFSEC Atlantic 2024
DESCRIPTION:DEFSEC Atlantic\, presented by the Atlantic Canada Aerospace & Defence Association\, is a premier networking event for the Aerospace\, Defence\, and Security industries. With a focus on highlighting Atlantic Canadian opportunities\, the show’s global reach fosters partnership potential for all attendees. \nCombining elements of a trade show and a defence procurement conference\, DEFSEC Atlantic offers access to key industry professionals in an engaging and professional setting. Attendees can participate in B2B meetings\, social events\, presentations\, expert panel discussions\, and use various communication tools to interact with representatives from defence\, industry\, and government sectors. \nThe COVE team will be at DEFSEC to connect with peers in the aerospace\, defence\, security\, and marine industries. Visit us at booth F109 to learn about COVE’s latest initiatives and developments.
URL:https://coveocean.com/event/defsec-atlantic-2024/
LOCATION:Halifax Convention Centre\, 1650 Argyle St\, Halifax\, Nova Scotia\, B3J 0E6\, Canada
CATEGORIES:Conference,Defence,Halifax,Innovation
ATTACH;FMTTYPE=image/png:https://coveocean.com/wp-content/uploads/2024/06/DEFSEC-CCNnewsletter-photos.png
END:VEVENT
BEGIN:VEVENT
DTSTART;TZID=America/Halifax:20241009T113000
DTEND;TZID=America/Halifax:20241009T130000
DTSTAMP:20260425T130109
CREATED:20241003T134932Z
LAST-MODIFIED:20241003T134932Z
UID:22222-1728473400-1728478800@coveocean.com
SUMMARY:Bridging the Atlantic - Europe and Canada
DESCRIPTION:Bridging the Atlantic is a virtual matchmaking programme that brings together innovation leaders: Greentech innovators\, professionals researchers\, and government executives\, from Europe and Canada to create a working group and win a grant worth up to EUR 16M. \nAs part of the series\, the participants from Europe and Canada engage in discussions surrounding Horizon Europe calls\, aiming to increase consortium creation and submissions. \n\n\n\n\nWho can join?\n\n\n\n\n\n\n\n\n Greentech companies: startups\, SMEs\, and corporates \n Municipalities\, government bodies\, and NGOs \n Universities\, research institutes\, and researchers \nWhy join?\n\n\n\n\n\n\n\nDiscover Horizon Europe Cleantech funding opportunities\nGain insights into country-specific priorities\, strengths\, and areas of interest\nCollaborate with Horizon Europe experts\, NCPs\, and potential partners from Canada\, Europe\, and beyond\nPitch your ideas in moderated breakout sessions based on key project calls\nHorizon Europe consultation for select consortia
URL:https://coveocean.com/event/bridging-the-atlantic-europe-and-canada/
LOCATION:Virtual
CATEGORIES:Innovation
ATTACH;FMTTYPE=image/png:https://coveocean.com/wp-content/uploads/2024/10/Bridging-the-horizon-resized-photo.png
END:VEVENT
BEGIN:VEVENT
DTSTART;TZID=America/Halifax:20241121T160000
DTEND;TZID=America/Halifax:20241121T180000
DTSTAMP:20260425T130109
CREATED:20241028T153629Z
LAST-MODIFIED:20241107T132500Z
UID:22385-1732204800-1732212000@coveocean.com
SUMMARY:Ocean Connector: Accelerating Industry Collaboration and Innovation with Digital Harbour
DESCRIPTION:At February’s Ocean Connector event\, COVE introduced the Digital Harbour project to the marine sector. Now\, nearly 10 months later\, the foundation has been laid\, and phase one is approaching completion. \nAs we move forward\, industry insights are essential to accelerate innovation\, improve data sharing\, and foster collaboration within the technology ecosystem. \nJoin us as Patrick LeClair\, COVE’s Technical Project Manager for Digital Harbour\, Shayla Fitzsimmons\, Executive Director of CIOOS Atlantic\, and Chris Whidden\, DeepSense/COVE Digital Ocean Research Chair\, share the latest developments on Digital Harbour’s progress. \nLearn how this groundbreaking initiative is poised to make a significant impact on the marine sector and discover how you and your company can become involved in the next steps of the project.\nDo not miss this chance to connect and help drive the future of digital transformation in marine technology!
URL:https://coveocean.com/event/ocean-connector-accelerating-industry-collaboration-and-innovation-with-digital-harbour/
LOCATION:COVE\, 27 Parker Street\, Dartmouth\, NS\, B2Y 4T5\, Canada
CATEGORIES:Data,Innovation,Marine Technology,Ocean Connector
ATTACH;FMTTYPE=image/png:https://coveocean.com/wp-content/uploads/2024/10/Digital-Harbour-Nov-2024.png
END:VEVENT
BEGIN:VEVENT
DTSTART;VALUE=DATE:20250210
DTEND;VALUE=DATE:20250214
DTSTAMP:20260425T130109
CREATED:20241202T152145Z
LAST-MODIFIED:20241217T190252Z
UID:22447-1739145600-1739491199@coveocean.com
SUMMARY:Blue Innovation Symposium
DESCRIPTION:In 2025\, the Blue Innovation Symposium\, one of the premier Blue Economy events in the United States\, will celebrate its 10th anniversary. The Symposium annually brings together over 400 participants for three days of education\, networking\, and matchmaking.
URL:https://coveocean.com/event/blue-innovation-symposium-4/
LOCATION:Wyndham Newport Hotel\, 240 Aquidneck Middletown\, Rhode Island\, RI\, 02842\, United States
CATEGORIES:Conference,Innovation,Marine Technology
ATTACH;FMTTYPE=image/png:https://coveocean.com/wp-content/uploads/2024/12/Blue-Innovation-Symposium.png
ORGANIZER;CN="Blue Innovation Symposium":MAILTO:info@blueinnovationsymposium.com
END:VEVENT
BEGIN:VEVENT
DTSTART;VALUE=DATE:20250528
DTEND;VALUE=DATE:20250530
DTSTAMP:20260425T130109
CREATED:20250516T144338Z
LAST-MODIFIED:20250516T144338Z
UID:23888-1748390400-1748563199@coveocean.com
SUMMARY:CANSEC 2025
DESCRIPTION:CANSEC is Canada’s largest and most important defence\, security\, and emerging technology event\, organized annually by the Canadian Association of Defence and Security Industries (CADSI). Taking place May 28–29\, 2025\, at the EY Centre in Ottawa\, CANSEC brings together over 280 exhibitors showcasing the latest technologies and services across land\, naval\, aerospace\, and joint forces domains. The event attracts more than 12\,000 attendees\, including senior military personnel\, government officials\, and international delegates. With more than 1\,400 scheduled business-to-business and business-to-government meetings\, CANSEC offers extensive networking opportunities for professionals looking to collaborate and form strategic partnerships. \nAttendance is exclusive to CADSI members\, public servants\, military personnel\, registered media\, and representatives from allied nations. CANSEC continues to be a key destination for anyone involved in the defence and security sectors to explore innovation\, engage with decision-makers\, and grow their networks.
URL:https://coveocean.com/event/cansec-2025/
LOCATION:EY Centre\, Ottawa\, 4899 Uplands Drive\, Ottawa\, Ontario\, K1V 2N6\, Canada
CATEGORIES:Conference,Defence,Innovation,Security
ATTACH;FMTTYPE=image/png:https://coveocean.com/wp-content/uploads/2025/05/CANSEC-website.avif
END:VEVENT
BEGIN:VEVENT
DTSTART;VALUE=DATE:20250610
DTEND;VALUE=DATE:20250613
DTSTAMP:20260425T130109
CREATED:20241202T162304Z
LAST-MODIFIED:20241202T162304Z
UID:22457-1749513600-1749772799@coveocean.com
SUMMARY:H2O Conference
DESCRIPTION:The Ocean Technology Council of Nova Scotia in partnership with the Government of Canada\, the Province of Nova Scotia and COVE\, is pleased to present the 10th Anniversary of the H2O: Home to Overseas Conference. The conference will take place on Tuesday\, June 10 to Wednesday\, June 11\, 2025 at the Halifax Convention Centre\, with the Demo Day on Thursday\, June 12 at COVE. \nThe H2O conference offers opportunities to engage with local\, national\, and international ocean technology industries through exhibits\, showcases\, panel presentations\, workshops\, B2B meetings\, and more. Explore the latest in technology as an enabler for aquaculture\, clean energy for a sustainable ocean industry: building workforce capacity and readiness\, eDNA\, maritime security\, offshore wind\, international trends in blue tech ventures\, and beyond.
URL:https://coveocean.com/event/h2o-conference-2/
LOCATION:Halifax Convention Centre\, 1650 Argyle St\, Halifax\, Nova Scotia\, B3J 0E6\, Canada
CATEGORIES:Conference,H2O Conference,Halifax,Innovation,Marine Technology
ATTACH;FMTTYPE=image/png:https://coveocean.com/wp-content/uploads/2024/12/H2O-Conference-1.png
END:VEVENT
BEGIN:VEVENT
DTSTART;VALUE=DATE:20250616
DTEND;VALUE=DATE:20250620
DTSTAMP:20260425T130109
CREATED:20241202T160714Z
LAST-MODIFIED:20241202T160714Z
UID:22451-1750032000-1750377599@coveocean.com
SUMMARY:OCEANS 2025 BREST
DESCRIPTION:OCEANS is the bi-annual event for global marine technologists\, engineers\, students\, government officials\, lawyers\, and advocates who work in the marine field. The event gathers the best minds and skills in the industry to highlight relevant topics and trending technology\, while creating a community of learners and influencers who consistently move the industry forward.
URL:https://coveocean.com/event/oceans-2025-brest/
LOCATION:Brest\, France
CATEGORIES:Conference,Innovation,Marine Technology
ATTACH;FMTTYPE=image/png:https://coveocean.com/wp-content/uploads/2024/12/OCEANS-2025-Brest.png
END:VEVENT
BEGIN:VEVENT
DTSTART;VALUE=DATE:20260203
DTEND;VALUE=DATE:20260206
DTSTAMP:20260425T130109
CREATED:20260102T192611Z
LAST-MODIFIED:20260102T192611Z
UID:24895-1770076800-1770335999@coveocean.com
SUMMARY:Navy Tech & Seabed Defence 2026
DESCRIPTION:Navy Tech & Seabed Defence 2026\, taking place 3–5 February 2026 in Gothenburg\, Sweden\, is a leading international conference and exhibition for naval\, maritime\, and subsea professionals. The event brings together military leaders\, industry experts\, and researchers to explore the latest advancements in naval technologies\, uncrewed systems\, and undersea defence. \nWith presentations\, panel discussions\, and networking opportunities\, the event fosters collaboration across defence\, industry\, and research communities. Attendees gain insights into emerging threats and innovative solutions shaping the future of maritime security and subsea operations.
URL:https://coveocean.com/event/navy-tech-seabed-defence-2026/
LOCATION:Swedish Exhibition & Congress Centre
CATEGORIES:Conference,Defence,Innovation,Naval
ATTACH;FMTTYPE=image/png:https://coveocean.com/wp-content/uploads/2026/01/SeabedDefence-Navy-Leaders-2026.avif
END:VEVENT
BEGIN:VEVENT
DTSTART;VALUE=DATE:20260204
DTEND;VALUE=DATE:20260206
DTSTAMP:20260425T130109
CREATED:20260102T185341Z
LAST-MODIFIED:20260102T185341Z
UID:24888-1770163200-1770335999@coveocean.com
SUMMARY:SUBSEA EXPO
DESCRIPTION:Subsea Expo\, organized by Global Underwater Hub\, is one of the world’s leading subsea exhibitions and conferences\, bringing together the global underwater and subsea sectors at P&J Live in Aberdeen. Held annually and free to attend\, the event attracts thousands of professionals\, with over 100 exhibiting companies and thousands of delegates from around the world. Subsea Expo features a dynamic\, multi‑stream conference running alongside a large exhibition\, showcasing the latest technologies\, innovations\, and operational capabilities across the subsea and underwater industry. The event also includes the prestigious Subsea Expo Awards\, celebrating excellence among individuals and companies shaping the future of the sector.
URL:https://coveocean.com/event/subsea-expo-4/
LOCATION:J&P Live\, East Burn Road\, Aberdeen\, Scotland\, United Kingdom
CATEGORIES:Conference,Innovation,Marine Technology
ATTACH;FMTTYPE=image/png:https://coveocean.com/wp-content/uploads/2023/12/subsea-expo-website.png
END:VEVENT
BEGIN:VEVENT
DTSTART;VALUE=DATE:20260209
DTEND;VALUE=DATE:20260213
DTSTAMP:20260425T130109
CREATED:20251117T133824Z
LAST-MODIFIED:20251117T134901Z
UID:24805-1770595200-1770940799@coveocean.com
SUMMARY:Blue Innovation Symposium
DESCRIPTION:The Blue Innovation Symposium is a leading annual gathering in Newport\, Rhode Island that brings together innovators\, investors\, policymakers\, and scientists from across the marine technology sector. Over three days\, participants engage in high-impact panels\, lightning “flash talks\,” ecosystem tours\, and networking sessions designed to spark collaboration\, drive investment\, and shape the future of the marine economy. With hundreds of delegates each year\, the Symposium is a hub for education\, partnerships\, and matchmaking in marine tech.
URL:https://coveocean.com/event/blue-innovation-symposium-5/
LOCATION:Wyndham Newport Hotel\, 240 Aquidneck Middletown\, Rhode Island\, RI\, 02842\, United States
CATEGORIES:Conference,Innovation,Marine Technology
ATTACH;FMTTYPE=image/png:https://coveocean.com/wp-content/uploads/2024/12/Blue-Innovation-Symposium.png
ORGANIZER;CN="Blue Innovation Symposium":MAILTO:info@blueinnovationsymposium.com
END:VEVENT
BEGIN:VEVENT
DTSTART;VALUE=DATE:20260323
DTEND;VALUE=DATE:20260327
DTSTAMP:20260425T130109
CREATED:20260102T191011Z
LAST-MODIFIED:20260102T191011Z
UID:24892-1774224000-1774569599@coveocean.com
SUMMARY:MTS Buoy Workshop
DESCRIPTION:The 16th Buoy Workshop\, organized by the Marine Technology Society (MTS)\, is a premier biennial event for professionals in buoy technology and its applications across oceanographic\, weather\, and other marine systems. Since 1996\, the Workshop has brought together engineers\, designers\, operators\, and scientists from around the world to share knowledge\, showcase innovations\, and collaborate on solutions for the marine sector. \nTaking place March 23–26\, 2026\, the event features pre-workshop seminars\, technical presentations\, keynote sessions\, panel discussions\, facility tours\, and networking opportunities. It provides a platform to explore the latest advancements in buoy and mooring systems\, supporting ocean observation\, engineering innovation\, and data-driven insights for the global marine community.
URL:https://coveocean.com/event/mts-buoy-workshop/
LOCATION:RI
CATEGORIES:Education Workshop,Innovation,Marine Technology
ATTACH;FMTTYPE=image/png:https://coveocean.com/wp-content/uploads/2026/01/2026-MTS-Buoy-workshop.avif
END:VEVENT
BEGIN:VEVENT
DTSTART;VALUE=DATE:20260407
DTEND;VALUE=DATE:20260410
DTSTAMP:20260425T130109
CREATED:20260312T150525Z
LAST-MODIFIED:20260312T150525Z
UID:25518-1775520000-1775779199@coveocean.com
SUMMARY:Canadian Armed Forces Outlooks
DESCRIPTION:The Canadian Armed Forces Outlooks conference is an annual event that brings together senior leaders from the Army\, Air Force\, and Navy with industry partners. The forum provides updates on strategic priorities\, procurement plans\, and future projects\, offering attendees insight into Canada’s defence initiatives and opportunities for collaboration. \nOver multiple days\, participants engage in discussions on emerging military needs\, attend presentations from key decision-makers\, and explore potential partnerships that support innovation\, capability development\, and operational readiness across Canada’s defence sector.
URL:https://coveocean.com/event/canadian-armed-forces-outlooks/
LOCATION:Rogers Centre Ottawa\, 55 Colonel By Drive\, Ottawa\, Ontario\, Canada
CATEGORIES:Canada,Conference,Defence,Dual-Use,Innovation
ATTACH;FMTTYPE=image/png:https://coveocean.com/wp-content/uploads/2026/03/CAF-Outlooks-website-and-newsletter.avif
END:VEVENT
BEGIN:VEVENT
DTSTART;VALUE=DATE:20260527
DTEND;VALUE=DATE:20260529
DTSTAMP:20260425T130109
CREATED:20260417T145354Z
LAST-MODIFIED:20260417T145354Z
UID:25723-1779840000-1780012799@coveocean.com
SUMMARY:CANSEC 2026
DESCRIPTION:CANSEC is Canada’s premier defence and security trade show\, bringing together government\, military\, industry\, and academia to showcase the latest innovations and capabilities across the defence and security sectors. Hosted annually by the Canadian Association of Defence and Security Industries (CADSI)\, the event attracts senior decision‑makers\, policymakers\, and global partners from across Canada and allied nations. \nCANSEC 2026 will feature hundreds of exhibitors\, expert panels\, keynote presentations\, and networking opportunities focused on advancing technologies\, strengthening domestic supply chains\, and fostering collaboration in areas such as maritime defence\, aerospace\, cyber security\, AI\, and dual‑use innovation. \nCOVE participants will have the opportunity to highlight marine‑related technologies\, connect with defence and security stakeholders\, and explore partnerships that support innovation\, commercialization\, and operational readiness in Canada’s defence ecosystem.
URL:https://coveocean.com/event/cansec-2026/
LOCATION:EY Centre\, Ottawa\, 4899 Uplands Drive\, Ottawa\, Ontario\, K1V 2N6\, Canada
CATEGORIES:Conference,Defence,Dual-Use,Innovation,Marine Technology
ATTACH;FMTTYPE=image/png:https://coveocean.com/wp-content/uploads/2026/04/CANSEC-website.png
END:VEVENT
BEGIN:VEVENT
DTSTART;VALUE=DATE:20260608
DTEND;VALUE=DATE:20260611
DTSTAMP:20260425T130109
CREATED:20260417T150058Z
LAST-MODIFIED:20260417T150320Z
UID:25726-1780876800-1781135999@coveocean.com
SUMMARY:H2O: Home to Overseas Conference 2026
DESCRIPTION:The H2O: Home to Overseas Conference returns to the Halifax Convention Centre on June 8–10\, bringing together marine technology leaders from across Canada and around the world. Hosted by the Ocean Technology Council of Nova Scotia in partnership with government and industry\, the conference features expert panels\, exhibits\, workshops\, and B2B meetings designed to connect innovators with partners\, customers\, and investors across the global marine technology sector. \nRecognized as one of Canada’s premier gatherings for marine technology\, the event provides a platform to explore emerging technologies\, international market opportunities\, and collaboration across sectors such as maritime security\, offshore energy\, aquaculture\, and marine data systems. \nThe conference will conclude with COVE Demo Day on June 11\, where technologies move from discussion to live demonstration. Registration for the H2O Conference and COVE Demo Day are separate\, and attendees are encouraged to register for both events to experience the full week of programming and innovation.
URL:https://coveocean.com/event/h2o-home-to-overseas-conference-2026/
LOCATION:Halifax Convention Centre\, 1650 Argyle St\, Halifax\, Nova Scotia\, B3J 0E6\, Canada
CATEGORIES:Conference,H2O Conference,Halifax,Innovation,Marine Technology
ATTACH;FMTTYPE=image/png:https://coveocean.com/wp-content/uploads/2024/12/H2O-Conference-1.png
END:VEVENT
END:VCALENDAR