BEGIN:VCALENDAR
VERSION:2.0
PRODID:-//COVE - ECPv6.15.20//NONSGML v1.0//EN
CALSCALE:GREGORIAN
METHOD:PUBLISH
X-WR-CALNAME:COVE
X-ORIGINAL-URL:https://coveocean.com
X-WR-CALDESC:Events for COVE
REFRESH-INTERVAL;VALUE=DURATION:PT1H
X-Robots-Tag:noindex
X-PUBLISHED-TTL:PT1H
BEGIN:VTIMEZONE
TZID:America/Halifax
BEGIN:DAYLIGHT
TZOFFSETFROM:-0400
TZOFFSETTO:-0300
TZNAME:ADT
DTSTART:20230312T060000
END:DAYLIGHT
BEGIN:STANDARD
TZOFFSETFROM:-0300
TZOFFSETTO:-0400
TZNAME:AST
DTSTART:20231105T050000
END:STANDARD
BEGIN:DAYLIGHT
TZOFFSETFROM:-0400
TZOFFSETTO:-0300
TZNAME:ADT
DTSTART:20240310T060000
END:DAYLIGHT
BEGIN:STANDARD
TZOFFSETFROM:-0300
TZOFFSETTO:-0400
TZNAME:AST
DTSTART:20241103T050000
END:STANDARD
BEGIN:DAYLIGHT
TZOFFSETFROM:-0400
TZOFFSETTO:-0300
TZNAME:ADT
DTSTART:20250309T060000
END:DAYLIGHT
BEGIN:STANDARD
TZOFFSETFROM:-0300
TZOFFSETTO:-0400
TZNAME:AST
DTSTART:20251102T050000
END:STANDARD
END:VTIMEZONE
BEGIN:VEVENT
DTSTART;TZID=America/Halifax:20240226T080000
DTEND;TZID=America/Halifax:20240229T170000
DTSTAMP:20260424T124045
CREATED:20230719T181713Z
LAST-MODIFIED:20240222T144722Z
UID:18191-1708934400-1709226000@coveocean.com
SUMMARY:Blue Innovation Symposium
DESCRIPTION:SAVE THE DATE! \nThe Blue Innovation Symposium is the premier event in New England for connecting the marine technology industry for education\, networking and facilitating partnering opportunities. The conference brings together a broad spectrum of representatives of the marine technology industry from the US and beyond.  Each year\, the program has welcomed more than 270 attendees and nearly 40 sponsors for the three-day event\, including keynote addresses\, panel discussions and unique five-minute flash talks. \nStay tuned for more details.
URL:https://coveocean.com/event/blue-innovation-symposium-3/
LOCATION:Nova Scotia
CATEGORIES:Innovation,New England
ATTACH;FMTTYPE=image/png:https://coveocean.com/wp-content/uploads/2023/07/11.png
END:VEVENT
END:VCALENDAR