BEGIN:VCALENDAR
VERSION:2.0
PRODID:-//COVE - ECPv6.15.20//NONSGML v1.0//EN
CALSCALE:GREGORIAN
METHOD:PUBLISH
X-WR-CALNAME:COVE
X-ORIGINAL-URL:https://coveocean.com
X-WR-CALDESC:Events for COVE
REFRESH-INTERVAL;VALUE=DURATION:PT1H
X-Robots-Tag:noindex
X-PUBLISHED-TTL:PT1H
BEGIN:VTIMEZONE
TZID:America/Halifax
BEGIN:DAYLIGHT
TZOFFSETFROM:-0400
TZOFFSETTO:-0300
TZNAME:ADT
DTSTART:20250309T060000
END:DAYLIGHT
BEGIN:STANDARD
TZOFFSETFROM:-0300
TZOFFSETTO:-0400
TZNAME:AST
DTSTART:20251102T050000
END:STANDARD
BEGIN:DAYLIGHT
TZOFFSETFROM:-0400
TZOFFSETTO:-0300
TZNAME:ADT
DTSTART:20260308T060000
END:DAYLIGHT
BEGIN:STANDARD
TZOFFSETFROM:-0300
TZOFFSETTO:-0400
TZNAME:AST
DTSTART:20261101T050000
END:STANDARD
BEGIN:DAYLIGHT
TZOFFSETFROM:-0400
TZOFFSETTO:-0300
TZNAME:ADT
DTSTART:20270314T060000
END:DAYLIGHT
BEGIN:STANDARD
TZOFFSETFROM:-0300
TZOFFSETTO:-0400
TZNAME:AST
DTSTART:20271107T050000
END:STANDARD
END:VTIMEZONE
BEGIN:VEVENT
DTSTART;VALUE=DATE:20260526
DTEND;VALUE=DATE:20260529
DTSTAMP:20260425T093005
CREATED:20260223T173954Z
LAST-MODIFIED:20260304T163026Z
UID:25315-1779753600-1780012799@coveocean.com
SUMMARY:Invest Canada Conference 2026
DESCRIPTION:Canadian Venture Capital & Private Equity Association’s flagship annual conference\, Invest Canada ’26\, is being held in Halifax this May—bringing together senior leaders in venture capital\, private equity\, institutional investing\, government\, and innovation. Since 1979\, Invest Canada has been Canada’s premier meeting point for private capital decision-makers\, offering unparalleled opportunities to build meaningful relationships\, uncover investment opportunities\, and exchange insights that shape the future of Canadian markets. \nFor companies operating in the marine and defence sectors\, access to private capital is critical to scaling advanced technologies\, strengthening domestic supply chains\, and accelerating commercialization. As Canada increases its focus on sovereign capability\, Arctic security\, naval modernization\, and dual-use innovation\, Invest Canada provides a strategic forum to connect capital with high-growth marine and defence technologies. The conference offers a timely opportunity to align investors with companies developing solutions in maritime surveillance\, autonomous systems\, ocean data\, cybersecurity\, and next-generation defence infrastructure. \nOver three days of targeted programming\, attendees will engage in dynamic discussions on current market themes\, gain perspectives from influential keynote speakers\, and participate in high-impact networking designed to accelerate growth and collaboration across sectors. Join industry leaders and partners from around the world to connect\, learn\, and position your organization at the centre of Canada’s thriving private capital ecosystem.
URL:https://coveocean.com/event/invest-canada-conference-2026/
LOCATION:Halifax Convention Centre\, 1650 Argyle St\, Halifax\, Nova Scotia\, B3J 0E6\, Canada
CATEGORIES:Halifax,Investment
ATTACH;FMTTYPE=image/png:https://coveocean.com/wp-content/uploads/2026/02/Invest-Canada-2026.avif
END:VEVENT
END:VCALENDAR