BEGIN:VCALENDAR
VERSION:2.0
PRODID:-//COVE - ECPv6.15.20//NONSGML v1.0//EN
CALSCALE:GREGORIAN
METHOD:PUBLISH
X-ORIGINAL-URL:https://coveocean.com
X-WR-CALDESC:Events for COVE
REFRESH-INTERVAL;VALUE=DURATION:PT1H
X-Robots-Tag:noindex
X-PUBLISHED-TTL:PT1H
BEGIN:VTIMEZONE
TZID:America/Halifax
BEGIN:DAYLIGHT
TZOFFSETFROM:-0400
TZOFFSETTO:-0300
TZNAME:ADT
DTSTART:20230312T060000
END:DAYLIGHT
BEGIN:STANDARD
TZOFFSETFROM:-0300
TZOFFSETTO:-0400
TZNAME:AST
DTSTART:20231105T050000
END:STANDARD
BEGIN:DAYLIGHT
TZOFFSETFROM:-0400
TZOFFSETTO:-0300
TZNAME:ADT
DTSTART:20240310T060000
END:DAYLIGHT
BEGIN:STANDARD
TZOFFSETFROM:-0300
TZOFFSETTO:-0400
TZNAME:AST
DTSTART:20241103T050000
END:STANDARD
BEGIN:DAYLIGHT
TZOFFSETFROM:-0400
TZOFFSETTO:-0300
TZNAME:ADT
DTSTART:20250309T060000
END:DAYLIGHT
BEGIN:STANDARD
TZOFFSETFROM:-0300
TZOFFSETTO:-0400
TZNAME:AST
DTSTART:20251102T050000
END:STANDARD
BEGIN:DAYLIGHT
TZOFFSETFROM:-0400
TZOFFSETTO:-0300
TZNAME:ADT
DTSTART:20260308T060000
END:DAYLIGHT
BEGIN:STANDARD
TZOFFSETFROM:-0300
TZOFFSETTO:-0400
TZNAME:AST
DTSTART:20261101T050000
END:STANDARD
END:VTIMEZONE
BEGIN:VEVENT
DTSTART;VALUE=DATE:20240618
DTEND;VALUE=DATE:20240621
DTSTAMP:20260425T112749
CREATED:20240118T210939Z
LAST-MODIFIED:20240118T210939Z
UID:20037-1718668800-1718927999@coveocean.com
SUMMARY:Electric & Hybrid Marine Expo Europe
DESCRIPTION:The world’s leading exhibition and conference for maritime electrification\, decarbonization and GHG reduction solutions returns to Amsterdam – June 2024!\nElectric & Hybrid Marine Expo Europe will showcase new electric and hybrid marine transportation and propulsion solutions\, shore charging equipment and efficient emerging technologies to help you on your path to zero-emission shipping and net zero. \nTaking place alongside the exhibition is the Electric & Hybrid Marine Expo Europe Conference\, the only international conference dedicated to the electrification and hybridization of marine vessels\, along with the associated supporting infrastructure for ports\, charging\, fueling and energy supply.
URL:https://coveocean.com/event/electric-hybrid-marine-expo-europe/
LOCATION:RAI Amsterdam\, Europaplein 24\, 1078 GZ Amsterdam\, Netherlands
CATEGORIES:Europe,Innovation,Marine Technology
ATTACH;FMTTYPE=image/png:https://coveocean.com/wp-content/uploads/2024/01/Untitled-design-1-1.png
END:VEVENT
BEGIN:VEVENT
DTSTART;VALUE=DATE:20240626
DTEND;VALUE=DATE:20240629
DTSTAMP:20260425T112749
CREATED:20240216T174248Z
LAST-MODIFIED:20240216T174248Z
UID:20434-1719360000-1719619199@coveocean.com
SUMMARY:Seanergy 2024
DESCRIPTION:France’s international event on offshore renewable energy\nA business forum for all stakeholders in the industry to make connections\, grow their business\, share ideas and\, more widely\, to contribute to the development of all kinds of offshore renewable energy. \nEach year\, Seanergy brings together more than 4\,000 leaders and experts from the Offshore Renewable Energy industry. \nDuring 2 days\, the exhibition area is the place where attendees explore innovations and technologies making the energy transition happen\, where they do business and reach out to professionals showcasing projects and vision into future solutions. \nPosition your company as one of the leading companies in the flied.
URL:https://coveocean.com/event/seanergy-2024/
LOCATION:ExpoNantes\, 123 Av. de Bourgogne\, Nantes\, 44300\, France
CATEGORIES:Europe,Renewable energy
ATTACH;FMTTYPE=image/png:https://coveocean.com/wp-content/uploads/2024/02/newsletter.png
ORGANIZER;CN="BlueSign":MAILTO:hello@seanergy-forum.com
END:VEVENT
BEGIN:VEVENT
DTSTART;VALUE=DATE:20241105
DTEND;VALUE=DATE:20241107
DTSTAMP:20260425T112749
CREATED:20240930T191150Z
LAST-MODIFIED:20240930T191426Z
UID:22186-1730764800-1730937599@coveocean.com
SUMMARY:Ocean Energy Europe 2024
DESCRIPTION:The annual Ocean Energy Europe Conference & Exhibition is the meeting point for the whole ocean energy sector. \nNetwork\, raise your profile and learn about the latest industry developments via the programme. \nWhy attend?\n\nJoin the ocean energy sector in Aviemore for two days of everything ocean energy! \n\nConnect with clients\, colleagues and competitors.\nGet the latest insights\, news and information via our conference programme.\nNetwork: OEE2024 is a chance to unplug and connect with the sector.\nTwo days\, more than 60 speakers in our conference programme.\nDelegates from over 40 countries represented in the last edition.\nExhibitors: technology developers\, utilities\, project developers\, supply chain\, regional and national government agencies\, trade associations\, universities and more. All in one place!\n\n\n 
URL:https://coveocean.com/event/ocean-energy-europe-2024/
LOCATION:MacDonald Resort\, Cairngorms National Park\, United Kingdom
CATEGORIES:Conference,Energy,Europe
ATTACH;FMTTYPE=image/jpeg:https://coveocean.com/wp-content/uploads/2024/09/Ocean-Energy-Europe-2024-2-jpg.avif
END:VEVENT
BEGIN:VEVENT
DTSTART;VALUE=DATE:20250408
DTEND;VALUE=DATE:20250411
DTSTAMP:20260425T112749
CREATED:20231201T172147Z
LAST-MODIFIED:20250221T155153Z
UID:19776-1744070400-1744329599@coveocean.com
SUMMARY:Ocean Business 2025
DESCRIPTION:The hands-on ocean technology exhibition and training forum\n\n\n\n\n\n\n\n\nOcean Business 2025 is the global meeting place for ocean science and technology professionals. \nConnect with thousands of the industry’s brightest minds and share ideas to help define the future of ocean technology. \nFrom cutting-edge surveying innovation to the latest marine autonomous systems\, you’ll find hundreds of solutions to transform your business in 2025 and beyond.
URL:https://coveocean.com/event/ocean-business-2025/
LOCATION:Southampton UK\, National Oceanography Centre\, Southampton\, United Kingdom
CATEGORIES:Conference,Europe
ATTACH;FMTTYPE=image/png:https://coveocean.com/wp-content/uploads/2023/12/Event-Covers-COVE-Website-9.png
END:VEVENT
BEGIN:VEVENT
DTSTART;VALUE=DATE:20251104
DTEND;VALUE=DATE:20251108
DTSTAMP:20260425T112749
CREATED:20240626T181809Z
LAST-MODIFIED:20240930T185550Z
UID:20566-1762214400-1762559999@coveocean.com
SUMMARY:Europort 2025 Maritime Exhibition
DESCRIPTION:Europort\, organized in the world port city of Rotterdam\, is the international maritime exhibition and meeting place for innovative technology and complex shipbuilding. With an average of 25\,000 professional visitors and 1\,000 exhibiting companies Europort belongs to the world’s largest maritime meeting & knowledge sharing B2B platforms. Our seas\, rivers and channels are deeply rooted in The Netherlands’ DNA. The Dutch are globally renowned for challenging these waters and for their maritime expertise on extraordinary projects. While the exhibition will span every aspect of the maritime world\, it is therefore only natural that Europort has a strong focus on high-tech ships. These nine categories of special-purpose vessels will be particularly prominent at Europort. \nOur rivers and seas are filled with challenges and opportunities. We invite you to be part of the journey of the maritime transition; to explore the power of technology and transparency. We invite you to engineer\, build and maintain sustainable (relation)ships. TOGETHER\, TODAY\, TOMORROW.
URL:https://coveocean.com/event/europort-2025-maritime-exhibition/
LOCATION:Rotterdam Ahoy\, Ahoyweg 10\, Rotterdam\, South Holland\, 3084BD\, Netherlands
CATEGORIES:Europe,Marine Technology,Naval
ATTACH;FMTTYPE=image/png:https://coveocean.com/wp-content/uploads/2024/02/Untitled-design-6.png
ORGANIZER;CN="Europort":MAILTO:info@europort.nl
END:VEVENT
END:VCALENDAR