BEGIN:VCALENDAR
VERSION:2.0
PRODID:-//COVE - ECPv6.15.20//NONSGML v1.0//EN
CALSCALE:GREGORIAN
METHOD:PUBLISH
X-ORIGINAL-URL:https://coveocean.com
X-WR-CALDESC:Events for COVE
REFRESH-INTERVAL;VALUE=DURATION:PT1H
X-Robots-Tag:noindex
X-PUBLISHED-TTL:PT1H
BEGIN:VTIMEZONE
TZID:America/Halifax
BEGIN:DAYLIGHT
TZOFFSETFROM:-0400
TZOFFSETTO:-0300
TZNAME:ADT
DTSTART:20220313T060000
END:DAYLIGHT
BEGIN:STANDARD
TZOFFSETFROM:-0300
TZOFFSETTO:-0400
TZNAME:AST
DTSTART:20221106T050000
END:STANDARD
BEGIN:DAYLIGHT
TZOFFSETFROM:-0400
TZOFFSETTO:-0300
TZNAME:ADT
DTSTART:20230312T060000
END:DAYLIGHT
BEGIN:STANDARD
TZOFFSETFROM:-0300
TZOFFSETTO:-0400
TZNAME:AST
DTSTART:20231105T050000
END:STANDARD
BEGIN:DAYLIGHT
TZOFFSETFROM:-0400
TZOFFSETTO:-0300
TZNAME:ADT
DTSTART:20240310T060000
END:DAYLIGHT
BEGIN:STANDARD
TZOFFSETFROM:-0300
TZOFFSETTO:-0400
TZNAME:AST
DTSTART:20241103T050000
END:STANDARD
END:VTIMEZONE
BEGIN:VEVENT
DTSTART;VALUE=DATE:20231025
DTEND;VALUE=DATE:20231027
DTSTAMP:20260425T093155
CREATED:20230719T181814Z
LAST-MODIFIED:20230922T030841Z
UID:18211-1698192000-1698364799@coveocean.com
SUMMARY:OEE2023
DESCRIPTION:The annual Ocean Energy Europe Conference & Exhibition is the meeting point for the whole ocean energy sector. Network\, raise your profile and learn about the latest industry developments via the program. \n\nConnect with decision-makers: meet high-level ocean energy professionals.\nGet the latest news and join the conversation via the conference program.\nRaise your profile: Feature your company in front of senior decision-makers from industry and the public sector.\n\nJoin the two-day event with a cutting-edge program featuring some of the most important news and updates from the sector and a bustling exhibition.
URL:https://coveocean.com/event/oee2023/
LOCATION:Amare\, Spuiplein 150\, 2511 DG Den Haag\, Netherlands
CATEGORIES:Energy,Europe
ATTACH;FMTTYPE=image/png:https://coveocean.com/wp-content/uploads/2023/07/6.png
END:VEVENT
END:VCALENDAR