BEGIN:VCALENDAR
VERSION:2.0
PRODID:-//COVE - ECPv6.15.20//NONSGML v1.0//EN
CALSCALE:GREGORIAN
METHOD:PUBLISH
X-ORIGINAL-URL:https://coveocean.com
X-WR-CALDESC:Events for COVE
REFRESH-INTERVAL;VALUE=DURATION:PT1H
X-Robots-Tag:noindex
X-PUBLISHED-TTL:PT1H
BEGIN:VTIMEZONE
TZID:America/Halifax
BEGIN:DAYLIGHT
TZOFFSETFROM:-0400
TZOFFSETTO:-0300
TZNAME:ADT
DTSTART:20230312T060000
END:DAYLIGHT
BEGIN:STANDARD
TZOFFSETFROM:-0300
TZOFFSETTO:-0400
TZNAME:AST
DTSTART:20231105T050000
END:STANDARD
BEGIN:DAYLIGHT
TZOFFSETFROM:-0400
TZOFFSETTO:-0300
TZNAME:ADT
DTSTART:20240310T060000
END:DAYLIGHT
BEGIN:STANDARD
TZOFFSETFROM:-0300
TZOFFSETTO:-0400
TZNAME:AST
DTSTART:20241103T050000
END:STANDARD
BEGIN:DAYLIGHT
TZOFFSETFROM:-0400
TZOFFSETTO:-0300
TZNAME:ADT
DTSTART:20250309T060000
END:DAYLIGHT
BEGIN:STANDARD
TZOFFSETFROM:-0300
TZOFFSETTO:-0400
TZNAME:AST
DTSTART:20251102T050000
END:STANDARD
END:VTIMEZONE
BEGIN:VEVENT
DTSTART;TZID=America/Halifax:20240605T100000
DTEND;TZID=America/Halifax:20240605T150000
DTSTAMP:20260424T192113
CREATED:20231221T173251Z
LAST-MODIFIED:20240226T202317Z
UID:19906-1717581600-1717599600@coveocean.com
SUMMARY:Demo Day 2024
DESCRIPTION:Experience Canada’s premier interactive on-water event\nOn June 5\, 2024\, COVE hosts the premier event for on-water demonstrations of the latest marine technology innovations. COVE Demo Day features interactive and engaging demonstrations from world-leading marine technology innovators\, all on-site at COVE’s facility in Dartmouth. \nAs part of the OTCNS-led H2O Conference\, COVE Demo Day delivers a high-quality production showcasing the best in marine innovation and research. \nBE A PART OF THE ACTION AT COVE DEMO DAY! \nDemo Day 2023 was the largest one to date\, with over 50 companies showcasing their technology and almost 500 attendees. Companies on the showcase stage\, the blue stage\, and the innovation stage showed their technology in action through on-water demonstrations and high-level presentations. This year’s Demo Day also included five Tech Alley tents\, where attendees could learn more about COVE ecosystem companies and organizations.
URL:https://coveocean.com/event/demo-day-2024/
LOCATION:COVE\, 27 Parker Street\, Dartmouth\, NS\, B2Y 4T5\, Canada
CATEGORIES:Canada,Demo Day,Halifax
ATTACH;FMTTYPE=image/png:https://coveocean.com/wp-content/uploads/2023/12/Demo-Day-2024-graphics.png
END:VEVENT
END:VCALENDAR