BEGIN:VCALENDAR
VERSION:2.0
PRODID:-//COVE - ECPv6.15.20//NONSGML v1.0//EN
CALSCALE:GREGORIAN
METHOD:PUBLISH
X-WR-CALNAME:COVE
X-ORIGINAL-URL:https://coveocean.com
X-WR-CALDESC:Events for COVE
REFRESH-INTERVAL;VALUE=DURATION:PT1H
X-Robots-Tag:noindex
X-PUBLISHED-TTL:PT1H
BEGIN:VTIMEZONE
TZID:America/Halifax
BEGIN:DAYLIGHT
TZOFFSETFROM:-0400
TZOFFSETTO:-0300
TZNAME:ADT
DTSTART:20240310T060000
END:DAYLIGHT
BEGIN:STANDARD
TZOFFSETFROM:-0300
TZOFFSETTO:-0400
TZNAME:AST
DTSTART:20241103T050000
END:STANDARD
BEGIN:DAYLIGHT
TZOFFSETFROM:-0400
TZOFFSETTO:-0300
TZNAME:ADT
DTSTART:20250309T060000
END:DAYLIGHT
BEGIN:STANDARD
TZOFFSETFROM:-0300
TZOFFSETTO:-0400
TZNAME:AST
DTSTART:20251102T050000
END:STANDARD
BEGIN:DAYLIGHT
TZOFFSETFROM:-0400
TZOFFSETTO:-0300
TZNAME:ADT
DTSTART:20260308T060000
END:DAYLIGHT
BEGIN:STANDARD
TZOFFSETFROM:-0300
TZOFFSETTO:-0400
TZNAME:AST
DTSTART:20261101T050000
END:STANDARD
END:VTIMEZONE
BEGIN:VEVENT
DTSTART;VALUE=DATE:20250528
DTEND;VALUE=DATE:20250530
DTSTAMP:20260422T021348
CREATED:20250516T144338Z
LAST-MODIFIED:20250516T144338Z
UID:23888-1748390400-1748563199@coveocean.com
SUMMARY:CANSEC 2025
DESCRIPTION:CANSEC is Canada’s largest and most important defence\, security\, and emerging technology event\, organized annually by the Canadian Association of Defence and Security Industries (CADSI). Taking place May 28–29\, 2025\, at the EY Centre in Ottawa\, CANSEC brings together over 280 exhibitors showcasing the latest technologies and services across land\, naval\, aerospace\, and joint forces domains. The event attracts more than 12\,000 attendees\, including senior military personnel\, government officials\, and international delegates. With more than 1\,400 scheduled business-to-business and business-to-government meetings\, CANSEC offers extensive networking opportunities for professionals looking to collaborate and form strategic partnerships. \nAttendance is exclusive to CADSI members\, public servants\, military personnel\, registered media\, and representatives from allied nations. CANSEC continues to be a key destination for anyone involved in the defence and security sectors to explore innovation\, engage with decision-makers\, and grow their networks.
URL:https://coveocean.com/event/cansec-2025/
LOCATION:EY Centre\, Ottawa\, 4899 Uplands Drive\, Ottawa\, Ontario\, K1V 2N6\, Canada
CATEGORIES:Conference,Defence,Innovation,Security
ATTACH;FMTTYPE=image/png:https://coveocean.com/wp-content/uploads/2025/05/CANSEC-website.avif
END:VEVENT
END:VCALENDAR