BEGIN:VCALENDAR
VERSION:2.0
PRODID:-//COVE - ECPv6.15.20//NONSGML v1.0//EN
CALSCALE:GREGORIAN
METHOD:PUBLISH
X-WR-CALNAME:COVE
X-ORIGINAL-URL:https://coveocean.com
X-WR-CALDESC:Events for COVE
REFRESH-INTERVAL;VALUE=DURATION:PT1H
X-Robots-Tag:noindex
X-PUBLISHED-TTL:PT1H
BEGIN:VTIMEZONE
TZID:America/Halifax
BEGIN:DAYLIGHT
TZOFFSETFROM:-0400
TZOFFSETTO:-0300
TZNAME:ADT
DTSTART:20230312T060000
END:DAYLIGHT
BEGIN:STANDARD
TZOFFSETFROM:-0300
TZOFFSETTO:-0400
TZNAME:AST
DTSTART:20231105T050000
END:STANDARD
BEGIN:DAYLIGHT
TZOFFSETFROM:-0400
TZOFFSETTO:-0300
TZNAME:ADT
DTSTART:20240310T060000
END:DAYLIGHT
BEGIN:STANDARD
TZOFFSETFROM:-0300
TZOFFSETTO:-0400
TZNAME:AST
DTSTART:20241103T050000
END:STANDARD
BEGIN:DAYLIGHT
TZOFFSETFROM:-0400
TZOFFSETTO:-0300
TZNAME:ADT
DTSTART:20250309T060000
END:DAYLIGHT
BEGIN:STANDARD
TZOFFSETFROM:-0300
TZOFFSETTO:-0400
TZNAME:AST
DTSTART:20251102T050000
END:STANDARD
END:VTIMEZONE
BEGIN:VEVENT
DTSTART;TZID=America/Halifax:20241001T080000
DTEND;TZID=America/Halifax:20241003T160000
DTSTAMP:20260424T124045
CREATED:20240613T213404Z
LAST-MODIFIED:20240930T185753Z
UID:21754-1727769600-1727971200@coveocean.com
SUMMARY:DEFSEC Atlantic 2024
DESCRIPTION:DEFSEC Atlantic\, presented by the Atlantic Canada Aerospace & Defence Association\, is a premier networking event for the Aerospace\, Defence\, and Security industries. With a focus on highlighting Atlantic Canadian opportunities\, the show’s global reach fosters partnership potential for all attendees. \nCombining elements of a trade show and a defence procurement conference\, DEFSEC Atlantic offers access to key industry professionals in an engaging and professional setting. Attendees can participate in B2B meetings\, social events\, presentations\, expert panel discussions\, and use various communication tools to interact with representatives from defence\, industry\, and government sectors. \nThe COVE team will be at DEFSEC to connect with peers in the aerospace\, defence\, security\, and marine industries. Visit us at booth F109 to learn about COVE’s latest initiatives and developments.
URL:https://coveocean.com/event/defsec-atlantic-2024/
LOCATION:Halifax Convention Centre\, 1650 Argyle St\, Halifax\, Nova Scotia\, B3J 0E6\, Canada
CATEGORIES:Conference,Defence,Halifax,Innovation
ATTACH;FMTTYPE=image/png:https://coveocean.com/wp-content/uploads/2024/06/DEFSEC-CCNnewsletter-photos.png
END:VEVENT
END:VCALENDAR