BEGIN:VCALENDAR
VERSION:2.0
PRODID:-//COVE - ECPv6.15.20//NONSGML v1.0//EN
CALSCALE:GREGORIAN
METHOD:PUBLISH
X-WR-CALNAME:COVE
X-ORIGINAL-URL:https://coveocean.com
X-WR-CALDESC:Events for COVE
REFRESH-INTERVAL;VALUE=DURATION:PT1H
X-Robots-Tag:noindex
X-PUBLISHED-TTL:PT1H
BEGIN:VTIMEZONE
TZID:America/Halifax
BEGIN:DAYLIGHT
TZOFFSETFROM:-0400
TZOFFSETTO:-0300
TZNAME:ADT
DTSTART:20220313T060000
END:DAYLIGHT
BEGIN:STANDARD
TZOFFSETFROM:-0300
TZOFFSETTO:-0400
TZNAME:AST
DTSTART:20221106T050000
END:STANDARD
BEGIN:DAYLIGHT
TZOFFSETFROM:-0400
TZOFFSETTO:-0300
TZNAME:ADT
DTSTART:20230312T060000
END:DAYLIGHT
BEGIN:STANDARD
TZOFFSETFROM:-0300
TZOFFSETTO:-0400
TZNAME:AST
DTSTART:20231105T050000
END:STANDARD
BEGIN:DAYLIGHT
TZOFFSETFROM:-0400
TZOFFSETTO:-0300
TZNAME:ADT
DTSTART:20240310T060000
END:DAYLIGHT
BEGIN:STANDARD
TZOFFSETFROM:-0300
TZOFFSETTO:-0400
TZNAME:AST
DTSTART:20241103T050000
END:STANDARD
END:VTIMEZONE
BEGIN:VEVENT
DTSTART;VALUE=DATE:20230925
DTEND;VALUE=DATE:20230929
DTSTAMP:20260421T121923
CREATED:20230719T181811Z
LAST-MODIFIED:20230922T025632Z
UID:18207-1695600000-1695945599@coveocean.com
SUMMARY:Oceans 2023 Gulf Coast Conference and Exposition
DESCRIPTION:Don’t miss COVE’s Director of Workforce Development\, Tanya Lush\, on the Building a Diverse and Inclusive Talent Pipeline for the Ocean and Marine Sector of Atlantic Canada\, Tools for Best Practice and Lessons Learned panel at the Oceans 2023 Gulf Coast Conference and Exposition on September 25th from 3:00 p.m. – 4:50 p.m. \nOCEANS is an annual event for global marine technologists\, engineers\, students\, government officials\, lawyers\, and advocates. At OCEANS 2023 Gulf Coast\, industry thought leaders gather for four days to highlight relevant topics and current trends while creating a community of learners and influencers who consistently advance research\, practices\, and policies for the marine field. \nThe conference\, which will have over 2000 attendees and unprecedented networking\, will include: \n\nOver 500 professionally reviewed technical papers\, including sessions focused on local themes.\nPlenary sessions with leaders from industry\, academia\, the military and government.\n100+ exhibitors showcasing the latest innovations in products and services.\nA student poster session featuring outstanding projects from around the world and other student activities.\nTraining Sessions\, workshops\, demonstrations\, government listening sessions\, social and networking opportunities\, professional field trips …and much\, much more.\n\nFor more information and to register\, click the registration button below.
URL:https://coveocean.com/event/oceans-2023-gulf-coast-conference-and-exposition/
LOCATION:Mississippi Coast Coliseum & Convention Center\, 2350 Beach Blvd\, Biloxi\, MS\, 39531\, United States
CATEGORIES:Conference
ATTACH;FMTTYPE=image/png:https://coveocean.com/wp-content/uploads/2023/07/3.png
END:VEVENT
END:VCALENDAR