BEGIN:VCALENDAR
VERSION:2.0
PRODID:-//COVE - ECPv6.15.20//NONSGML v1.0//EN
CALSCALE:GREGORIAN
METHOD:PUBLISH
X-ORIGINAL-URL:https://coveocean.com
X-WR-CALDESC:Events for COVE
REFRESH-INTERVAL;VALUE=DURATION:PT1H
X-Robots-Tag:noindex
X-PUBLISHED-TTL:PT1H
BEGIN:VTIMEZONE
TZID:America/Halifax
BEGIN:DAYLIGHT
TZOFFSETFROM:-0400
TZOFFSETTO:-0300
TZNAME:ADT
DTSTART:20220313T060000
END:DAYLIGHT
BEGIN:STANDARD
TZOFFSETFROM:-0300
TZOFFSETTO:-0400
TZNAME:AST
DTSTART:20221106T050000
END:STANDARD
BEGIN:DAYLIGHT
TZOFFSETFROM:-0400
TZOFFSETTO:-0300
TZNAME:ADT
DTSTART:20230312T060000
END:DAYLIGHT
BEGIN:STANDARD
TZOFFSETFROM:-0300
TZOFFSETTO:-0400
TZNAME:AST
DTSTART:20231105T050000
END:STANDARD
BEGIN:DAYLIGHT
TZOFFSETFROM:-0400
TZOFFSETTO:-0300
TZNAME:ADT
DTSTART:20240310T060000
END:DAYLIGHT
BEGIN:STANDARD
TZOFFSETFROM:-0300
TZOFFSETTO:-0400
TZNAME:AST
DTSTART:20241103T050000
END:STANDARD
BEGIN:DAYLIGHT
TZOFFSETFROM:-0400
TZOFFSETTO:-0300
TZNAME:ADT
DTSTART:20250309T060000
END:DAYLIGHT
BEGIN:STANDARD
TZOFFSETFROM:-0300
TZOFFSETTO:-0400
TZNAME:AST
DTSTART:20251102T050000
END:STANDARD
END:VTIMEZONE
BEGIN:VEVENT
DTSTART;TZID=America/Halifax:20240312T070000
DTEND;TZID=America/Halifax:20240314T130000
DTSTAMP:20260421T102206
CREATED:20231129T190756Z
LAST-MODIFIED:20240306T130712Z
UID:19738-1710226800-1710421200@coveocean.com
SUMMARY:Oceanology International London 2024
DESCRIPTION:Connecting The Global Ocean Technology Community\nOceanology International brings together 500+ exhibitors in the only event that links the three key players in the industry: businesses\, academics and government. Visit Oi in 2024 for innovative live on-water demonstrations and interactive seminars looking into the future of our industry. \nWith over 8\,000 attendees targeted for 2024\, it is a must-attend event for those involved in exploring\, monitoring\, developing or protecting the world’s oceans\, from seabed to surface and beyond. \nJoin Oi at ExCel London to discover game-changing innovations and solutions transforming the future of ocean technology.
URL:https://coveocean.com/event/oceanology-international-london-2024/
LOCATION:ExCel London\, London\, United Kingdom
CATEGORIES:Conference,Europe
ATTACH;FMTTYPE=image/png:https://coveocean.com/wp-content/uploads/2023/11/Untitled-design-9.png
END:VEVENT
BEGIN:VEVENT
DTSTART;VALUE=DATE:20240310
DTEND;VALUE=DATE:20240314
DTSTAMP:20260421T102206
CREATED:20240304T150159Z
LAST-MODIFIED:20240304T150159Z
UID:20221-1710104400-1710363599@coveocean.com
SUMMARY:World Ocean Summit and Expo
DESCRIPTION:Turn the tide to a sustainable ocean economy\nThe eleventh annual World Ocean Summit returns to Lisbon\, leading the way to spark conversation and action in the transition to a sustainable ocean economy. \nIn 2024 we will put even more emphasis on action with a series of “How to” workshops\, which will present real-world solutions to global ocean challenges. Ten interactive “How to” workshops will create a set of action points and practical takeaways for individuals and organisations committed to restoring ocean health. \nThe 2024 agenda will focus on ocean health\, industry strategies for a sustainable ocean economy\, and ocean-climate solutions. The summit will feature more than 180 expert speakers and convene the widest cross-section of the ocean community from business and finance to government\, national and international policymakers\, civil society and academia. \nThis event provides the perfect platform to inspire new partnerships\, solutions and strategies on the track to meet the 2030 targets in UN Sustainable Development Goal 14. It is designed to change the way business is done in the ocean.
URL:https://coveocean.com/event/world-ocean-summit-and-expo/
LOCATION:Lisbon Congress Centre\, Praça das Indústrias 1\, Lisbon\, 1300-307\, Portugal
CATEGORIES:Conference,Europe
ATTACH;FMTTYPE=image/png:https://coveocean.com/wp-content/uploads/2024/01/Untitled-design-2-2.png
END:VEVENT
BEGIN:VEVENT
DTSTART;VALUE=DATE:20240205
DTEND;VALUE=DATE:20240208
DTSTAMP:20260421T102206
CREATED:20231221T153819Z
LAST-MODIFIED:20231221T153819Z
UID:19881-1707091200-1707350399@coveocean.com
SUMMARY:Floating Wind Solutions
DESCRIPTION:Floating Wind Solutions\, held annually in Houston\, is the ultimate opportunity for those who are presently involved in or seeking entry into floating wind.  \nFWS facilitates network opportunities with the right experienced people while gaining knowledge of the technical solutions available. Floating Wind Solutions’ mission is to utilize this platform to bring together the many critical players within the wind and offshore industries enabling accelerated adoption of Floating Wind Energy globally. This premier event’s primary goal is to accelerate the Energy Transition\, by focusing on the industrialization and commercialization of Floating Wind Energy. A world class Advisory Board ensures that the program maintains its sharp focus on the principles of the mission. \nExceptional growth in the harvesting of Floating Wind Energy will be reliant upon the technology and experience of companies historically focused on the offshore Supply Chain. With few exceptions\, these companies are the only ones who have ever designed\, constructed or installed permanently moored structures of any kind. In addition\, traditional Major Offshore Energy Operators are leading investors\, developers and operators of Floating Wind Energy Projects.
URL:https://coveocean.com/event/floating-wind-solutions/
LOCATION:Hilton Americas\, 1600 Lamar St\, Houston\, TX\, 77010\, United States
CATEGORIES:Conference,Renewable energy
ATTACH;FMTTYPE=image/png:https://coveocean.com/wp-content/uploads/2023/12/FWS.png
END:VEVENT
BEGIN:VEVENT
DTSTART;VALUE=DATE:20231130
DTEND;VALUE=DATE:20231213
DTSTAMP:20260421T102206
CREATED:20231201T170112Z
LAST-MODIFIED:20231201T170112Z
UID:19765-1701302400-1702425599@coveocean.com
SUMMARY:COP28 UAE
DESCRIPTION:COP28 UAE will be a milestone moment when the world will take stock of its progress on the Paris Agreement. \nThe first Global Stocktake (GST) will provide a comprehensive assessment of progress since adopting the Paris Agreement. This will help align the efforts on climate action\, including measures that need to be put in place to bridge the gaps in progress.The COP28 UAE presidency will work to ensure that the world responds to the GST with a clear action plan. \nIf you’re attending COP28 UAE you are committing to climate action. And action builds hope. You are an integral part of the ambition to make this COP a decisive moment of change. From leading global discussions on how to keep 1.5˚ within reach\, to listening and learning from fresh insight on the energy transition\, there’s an astonishing array of events – from the arts\, to culture\, self-guided tours and various hubs throughout the two weeks. All suited to the diverse\, empowering visitors. All are welcome and encouraged to take part in the schedule. \nJoin in enabling a more sustainable future.
URL:https://coveocean.com/event/cop28-uae/
LOCATION:Expo City Dubai\, Mangrove Avenue\, Dubai\, United Arab Emirates
CATEGORIES:Conference
ATTACH;FMTTYPE=image/jpeg:https://coveocean.com/wp-content/uploads/2023/12/cop28logo.jpeg
END:VEVENT
BEGIN:VEVENT
DTSTART;VALUE=DATE:20231129
DTEND;VALUE=DATE:20231202
DTSTAMP:20260421T102206
CREATED:20231123T142458Z
LAST-MODIFIED:20231123T142458Z
UID:19129-1701216000-1701475199@coveocean.com
SUMMARY:International WorkBoat Show
DESCRIPTION:Build your knowledge\, your network\, and unstoppable momentum\nFrom broad ranging panels with some of the industry’s most respected players\, to in-depth discussions with companies on the cutting edge of marine technology\, to multiple face to face opportunities to hear what is on the agenda for both the U.S. Navy and Coast Guard.  There is no better time and place to connect with the industry than the International WorkBoat Show. \nFrom November 29 – December 1\, 2023 Commercial Mariners from around the world will unite once again in New Orleans for the International WorkBoat Show. \nEach year\, over 15\,000 people return to network\, discover new products\, and learn about evolving issues affecting the industry – from expert keynote speakers\, innovative exhibitors\, and most importantly\, each other. \nAt The International WorkBoat Show\, you’ll find thousands of solutions\, strategies\, technologies\, and ideas to give your business an edge in 2023 and beyond. And you’ll find loyal exhibitors offering demos\, special presentations\, partnerships and deals to help you power through these turbulent times. \nRegister by 11/28 to reserve your free spot.
URL:https://coveocean.com/event/international-workboat-show/
LOCATION:Ernest N. Morial Convention Center\, 900 Convention Center Blvd.\, New Orleans\, LA\, 70130\, United States
CATEGORIES:Conference,Marine Technology
ATTACH;FMTTYPE=image/jpeg:https://coveocean.com/wp-content/uploads/2023/11/International-WorkBoat-Show.jpg
END:VEVENT
BEGIN:VEVENT
DTSTART;VALUE=DATE:20231128
DTEND;VALUE=DATE:20231130
DTSTAMP:20260421T102206
CREATED:20231124T162804Z
LAST-MODIFIED:20231124T162804Z
UID:19146-1701129600-1701302399@coveocean.com
SUMMARY:Offshore Energy Exhibition & Conference
DESCRIPTION:Offshore Energy Exhibition & Conference (OEEC) is Europe’s leading event for the entire offshore energy industry and an opportunity to reach business leaders\, highly qualified experts and professionals across global markets. Around 400 exhibitors will gather in Amsterdam on the 28 & 29 November\, showcasing their experience and expertise in the offshore wind\, oil and gas\, marine energy\, hydrogen sector and more. \nCONFERENCE SESSIONS\nIn an inspiring setting\, thought leaders and industry experts come together to share knowledge and discuss the latest trends. In the program experts talk about\, among others\, the role of hydrogen in transforming our economies; innovations in the floating offshore wind industry; developments in the marine energy sector; leading a company in these turbulent times and how to be future proof in a world that is changing fast. \n 
URL:https://coveocean.com/event/offshore-energy-exhibition-conference/
LOCATION:RAI Amsterdam\, Europaplein 24\, 1078 GZ Amsterdam\, Netherlands
CATEGORIES:Conference,Energy
ATTACH;FMTTYPE=image/png:https://coveocean.com/wp-content/uploads/2023/11/Offshore-Energy-Logo2.png
END:VEVENT
BEGIN:VEVENT
DTSTART;VALUE=DATE:20230925
DTEND;VALUE=DATE:20230929
DTSTAMP:20260421T102206
CREATED:20230719T181811Z
LAST-MODIFIED:20230922T025632Z
UID:18207-1695600000-1695945599@coveocean.com
SUMMARY:Oceans 2023 Gulf Coast Conference and Exposition
DESCRIPTION:Don’t miss COVE’s Director of Workforce Development\, Tanya Lush\, on the Building a Diverse and Inclusive Talent Pipeline for the Ocean and Marine Sector of Atlantic Canada\, Tools for Best Practice and Lessons Learned panel at the Oceans 2023 Gulf Coast Conference and Exposition on September 25th from 3:00 p.m. – 4:50 p.m. \nOCEANS is an annual event for global marine technologists\, engineers\, students\, government officials\, lawyers\, and advocates. At OCEANS 2023 Gulf Coast\, industry thought leaders gather for four days to highlight relevant topics and current trends while creating a community of learners and influencers who consistently advance research\, practices\, and policies for the marine field. \nThe conference\, which will have over 2000 attendees and unprecedented networking\, will include: \n\nOver 500 professionally reviewed technical papers\, including sessions focused on local themes.\nPlenary sessions with leaders from industry\, academia\, the military and government.\n100+ exhibitors showcasing the latest innovations in products and services.\nA student poster session featuring outstanding projects from around the world and other student activities.\nTraining Sessions\, workshops\, demonstrations\, government listening sessions\, social and networking opportunities\, professional field trips …and much\, much more.\n\nFor more information and to register\, click the registration button below.
URL:https://coveocean.com/event/oceans-2023-gulf-coast-conference-and-exposition/
LOCATION:Mississippi Coast Coliseum & Convention Center\, 2350 Beach Blvd\, Biloxi\, MS\, 39531\, United States
CATEGORIES:Conference
ATTACH;FMTTYPE=image/png:https://coveocean.com/wp-content/uploads/2023/07/3.png
END:VEVENT
END:VCALENDAR