BEGIN:VCALENDAR
VERSION:2.0
PRODID:-//COVE - ECPv6.15.20//NONSGML v1.0//EN
CALSCALE:GREGORIAN
METHOD:PUBLISH
X-WR-CALNAME:COVE
X-ORIGINAL-URL:https://coveocean.com
X-WR-CALDESC:Events for COVE
REFRESH-INTERVAL;VALUE=DURATION:PT1H
X-Robots-Tag:noindex
X-PUBLISHED-TTL:PT1H
BEGIN:VTIMEZONE
TZID:America/Halifax
BEGIN:DAYLIGHT
TZOFFSETFROM:-0400
TZOFFSETTO:-0300
TZNAME:ADT
DTSTART:20240310T060000
END:DAYLIGHT
BEGIN:STANDARD
TZOFFSETFROM:-0300
TZOFFSETTO:-0400
TZNAME:AST
DTSTART:20241103T050000
END:STANDARD
BEGIN:DAYLIGHT
TZOFFSETFROM:-0400
TZOFFSETTO:-0300
TZNAME:ADT
DTSTART:20250309T060000
END:DAYLIGHT
BEGIN:STANDARD
TZOFFSETFROM:-0300
TZOFFSETTO:-0400
TZNAME:AST
DTSTART:20251102T050000
END:STANDARD
BEGIN:DAYLIGHT
TZOFFSETFROM:-0400
TZOFFSETTO:-0300
TZNAME:ADT
DTSTART:20260308T060000
END:DAYLIGHT
BEGIN:STANDARD
TZOFFSETFROM:-0300
TZOFFSETTO:-0400
TZNAME:AST
DTSTART:20261101T050000
END:STANDARD
END:VTIMEZONE
BEGIN:VEVENT
DTSTART;VALUE=DATE:20250929
DTEND;VALUE=DATE:20251003
DTSTAMP:20260423T090731
CREATED:20250922T191552Z
LAST-MODIFIED:20250922T191552Z
UID:24601-1759104000-1759449599@coveocean.com
SUMMARY:OCEANS 2025 Great Lakes
DESCRIPTION:OCEANS 2025 Great Lakes is the premier conference bringing together maritime professionals\, researchers\, engineers\, policymakers\, and students from around the world. Hosted by the Marine Technology Society (MTS) and IEEE Oceanic Engineering Society (OES)\, this event provides a powerful platform to learn\, innovate\, and lead in ocean science\, technology\, and policy. \nExpect four days of technical papers\, plenaries\, workshops\, and on-water demonstrations\, along with hundreds of exhibitors\, emerging-startups\, and networking opportunities. Whether you’re focused on marine technology\, environmental monitoring\, uncrewed systems\, or ocean policy\, this is where the ocean community converges to share ideas\, showcase innovations\, and shape the future of our world’s waters.
URL:https://coveocean.com/event/oceans-2025-great-lakes/
LOCATION:Navy Pier\, Chicago\, IL\, United States
CATEGORIES:Conference
ATTACH;FMTTYPE=image/png:https://coveocean.com/wp-content/uploads/2025/09/OCEANS-Chicago-website.avif
END:VEVENT
END:VCALENDAR