BEGIN:VCALENDAR
VERSION:2.0
PRODID:-//COVE - ECPv6.15.20//NONSGML v1.0//EN
CALSCALE:GREGORIAN
METHOD:PUBLISH
X-WR-CALNAME:COVE
X-ORIGINAL-URL:https://coveocean.com
X-WR-CALDESC:Events for COVE
REFRESH-INTERVAL;VALUE=DURATION:PT1H
X-Robots-Tag:noindex
X-PUBLISHED-TTL:PT1H
BEGIN:VTIMEZONE
TZID:America/Halifax
BEGIN:DAYLIGHT
TZOFFSETFROM:-0400
TZOFFSETTO:-0300
TZNAME:ADT
DTSTART:20230312T060000
END:DAYLIGHT
BEGIN:STANDARD
TZOFFSETFROM:-0300
TZOFFSETTO:-0400
TZNAME:AST
DTSTART:20231105T050000
END:STANDARD
BEGIN:DAYLIGHT
TZOFFSETFROM:-0400
TZOFFSETTO:-0300
TZNAME:ADT
DTSTART:20240310T060000
END:DAYLIGHT
BEGIN:STANDARD
TZOFFSETFROM:-0300
TZOFFSETTO:-0400
TZNAME:AST
DTSTART:20241103T050000
END:STANDARD
BEGIN:DAYLIGHT
TZOFFSETFROM:-0400
TZOFFSETTO:-0300
TZNAME:ADT
DTSTART:20250309T060000
END:DAYLIGHT
BEGIN:STANDARD
TZOFFSETFROM:-0300
TZOFFSETTO:-0400
TZNAME:AST
DTSTART:20251102T050000
END:STANDARD
END:VTIMEZONE
BEGIN:VEVENT
DTSTART;VALUE=DATE:20240710
DTEND;VALUE=DATE:20240712
DTSTAMP:20260424T094236
CREATED:20240118T210856Z
LAST-MODIFIED:20240118T210856Z
UID:20029-1720569600-1720742399@coveocean.com
SUMMARY:Australia Wind Energy 2024
DESCRIPTION:Australia Wind Energy 2024 (#AuWE2024) will be back at MCEC Melbourne from 09th to 11th July 2024\, bigger and better than ever! This extraordinary event presents an unparalleled opportunity for you to forge strategic partnerships in the thriving Australian offshore and onshore wind industry. With our event space and attendee numbers doubled\, we proudly stand as the largest wind event in Australia and the entire APAC region\, welcoming a staggering 5\,000 energy enthusiasts.\n​\nKey Event Features:\nCutting-edge Insights: Immerse yourself in the pulse of sustainable energy as we dive deep into Australia’s wind power roadmap\, offshore wind deployment\, investment & the latest technical innovations.\nInnovation Showcase: Explore the AuWE2024 Exhibition\, where the latest advancements take center stage\, showcasing the future of wind energy.\nUnparalleled Networking: Connect with representatives from Australia’s federal and state governments\, domestic and international investors\, developers\, network providers\, financiers\, EPCs\, and top-notch equipment and solution providers.\nSynergistic Opportunities: Co-located with Connecting Green Hydrogen APAC 2024\, our event fosters powerful synergies between two leading sustainable energy gatherings.
URL:https://coveocean.com/event/australia-wind-energy-2024/
LOCATION:Melbourne Convention and Exhibition Center (MCEC)\, 1 Convention Centre Place\, Melbourne\, Victoria\, 3006\, Australia
CATEGORIES:Conference,Energy,Renewable energy
ATTACH;FMTTYPE=image/png:https://coveocean.com/wp-content/uploads/2024/01/Untitled-design-3.png
END:VEVENT
END:VCALENDAR