BEGIN:VCALENDAR
VERSION:2.0
PRODID:-//COVE - ECPv6.15.20//NONSGML v1.0//EN
CALSCALE:GREGORIAN
METHOD:PUBLISH
X-WR-CALNAME:COVE
X-ORIGINAL-URL:https://coveocean.com
X-WR-CALDESC:Events for COVE
REFRESH-INTERVAL;VALUE=DURATION:PT1H
X-Robots-Tag:noindex
X-PUBLISHED-TTL:PT1H
BEGIN:VTIMEZONE
TZID:America/Halifax
BEGIN:DAYLIGHT
TZOFFSETFROM:-0400
TZOFFSETTO:-0300
TZNAME:ADT
DTSTART:20230312T060000
END:DAYLIGHT
BEGIN:STANDARD
TZOFFSETFROM:-0300
TZOFFSETTO:-0400
TZNAME:AST
DTSTART:20231105T050000
END:STANDARD
BEGIN:DAYLIGHT
TZOFFSETFROM:-0400
TZOFFSETTO:-0300
TZNAME:ADT
DTSTART:20240310T060000
END:DAYLIGHT
BEGIN:STANDARD
TZOFFSETFROM:-0300
TZOFFSETTO:-0400
TZNAME:AST
DTSTART:20241103T050000
END:STANDARD
BEGIN:DAYLIGHT
TZOFFSETFROM:-0400
TZOFFSETTO:-0300
TZNAME:ADT
DTSTART:20250309T060000
END:DAYLIGHT
BEGIN:STANDARD
TZOFFSETFROM:-0300
TZOFFSETTO:-0400
TZNAME:AST
DTSTART:20251102T050000
END:STANDARD
END:VTIMEZONE
BEGIN:VEVENT
DTSTART;VALUE=DATE:20240603
DTEND;VALUE=DATE:20240605
DTSTAMP:20260424T111612
CREATED:20231221T174910Z
LAST-MODIFIED:20231221T174925Z
UID:19910-1717372800-1717545599@coveocean.com
SUMMARY:H2O Conference
DESCRIPTION:The Ocean Technology Council of Nova Scotia in partnership with the Government of Canada\, the Province of Nova Scotia\, and COVE is pleased to present the H2O: Home to Overseas Conference on Monday\, June 3 to Tuesday\, June 4\, 2024 at the Halifax Convention Centre\, with the Demo Day on Wednesday\, June 5 at COVE. \nAtlantic Canada\, and Nova Scotia in particular\, is home to a strong cluster of ocean industries and to ground breaking ocean research. This region is quickly becoming a globally recognized hub of oceans expertise with the potential to be a significant contributor to a number of Global Value Chains associated with the oceans sector\, including\, but not limited to\, Marine Defence\, Marine Energy\, Marine Observation\, Fisheries and Aquaculture Technology\, Marine Tourism and Marine Transportation. \nThe H2O Conference is an ideal event to engage with the ocean technology industry. The conference will include: international delegates\, research\, development and commercialization presentations\, and B2B meetings. This year’s conference will also include on-water demos at COVE.
URL:https://coveocean.com/event/h2o-conference/
LOCATION:Halifax Convention Centre\, 1650 Argyle St\, Halifax\, Nova Scotia\, B3J 0E6\, Canada
CATEGORIES:Canada,Conference
ATTACH;FMTTYPE=image/png:https://coveocean.com/wp-content/uploads/2023/12/H2O-Conference-2024.png
END:VEVENT
BEGIN:VEVENT
DTSTART;VALUE=DATE:20240605
DTEND;VALUE=DATE:20240608
DTSTAMP:20260424T111612
CREATED:20240118T211152Z
LAST-MODIFIED:20240118T211152Z
UID:20041-1717545600-1717804799@coveocean.com
SUMMARY:GreenTech 2024
DESCRIPTION:It’s the beautiful Canadian East Coast that the Green Marine team has the pleasure of hosting its 17th annual conference\, GreenTech 2024. The event will take place at the Halifax Convention Center in Nova Scotia from June 5 to 7. \nGreenTech will provide a forum to learn more about the issues prioritized by the Green Marine program’s environmental performance indicators and other emerging issues of keen interest to the maritime industry and related stakeholders.
URL:https://coveocean.com/event/greentech-2024/
LOCATION:Halifax Convention Centre\, 1650 Argyle St\, Halifax\, Nova Scotia\, B3J 0E6\, Canada
CATEGORIES:Canada,Conference,Marine Technology
ATTACH;FMTTYPE=image/png:https://coveocean.com/wp-content/uploads/2024/01/Untitled-design-6.png
ORGANIZER;CN="Green Marine Management":MAILTO:info@green-marine.org
END:VEVENT
BEGIN:VEVENT
DTSTART;VALUE=DATE:20240611
DTEND;VALUE=DATE:20240615
DTSTAMP:20260424T111612
CREATED:20240118T211036Z
LAST-MODIFIED:20240118T211036Z
UID:20011-1718074800-1718333999@coveocean.com
SUMMARY:Global Energy Show
DESCRIPTION:As North America’s Leading Energy Event\, the Global Energy Show is the largest B2B exhibition and conference engaging with industry buyers and sellers\, stakeholders and partners\, CEOs and young professionals together to share knowledge and fuel innovation in the ever-changing energy landscape. \nAs no single source of energy can meet the increased global energy demand\, the Global Energy Show is where Canada demonstrates its vision and leadership by bringing the right people together to meet global challenges with real-world solutions. \nTogether at the Global Energy Show in 2024\, energy professionals will come together to lead the path of meeting energy demand\, discussing energy transition\, showcasing technology and innovation\, and discovering the role of all energy sources in the greater energy system.
URL:https://coveocean.com/event/global-energy-show/
LOCATION:BMO Centre at Stampede Park\, 20 Roundup Way Se\, Calgary\, Alberta\, T2G 2W1\, Canada
CATEGORIES:Canada,Conference
ATTACH;FMTTYPE=image/png:https://coveocean.com/wp-content/uploads/2024/01/Untitled-design-1.png
END:VEVENT
END:VCALENDAR