BEGIN:VCALENDAR
VERSION:2.0
PRODID:-//COVE - ECPv6.15.20//NONSGML v1.0//EN
CALSCALE:GREGORIAN
METHOD:PUBLISH
X-WR-CALNAME:COVE
X-ORIGINAL-URL:https://coveocean.com
X-WR-CALDESC:Events for COVE
REFRESH-INTERVAL;VALUE=DURATION:PT1H
X-Robots-Tag:noindex
X-PUBLISHED-TTL:PT1H
BEGIN:VTIMEZONE
TZID:America/Halifax
BEGIN:DAYLIGHT
TZOFFSETFROM:-0400
TZOFFSETTO:-0300
TZNAME:ADT
DTSTART:20230312T060000
END:DAYLIGHT
BEGIN:STANDARD
TZOFFSETFROM:-0300
TZOFFSETTO:-0400
TZNAME:AST
DTSTART:20231105T050000
END:STANDARD
BEGIN:DAYLIGHT
TZOFFSETFROM:-0400
TZOFFSETTO:-0300
TZNAME:ADT
DTSTART:20240310T060000
END:DAYLIGHT
BEGIN:STANDARD
TZOFFSETFROM:-0300
TZOFFSETTO:-0400
TZNAME:AST
DTSTART:20241103T050000
END:STANDARD
BEGIN:DAYLIGHT
TZOFFSETFROM:-0400
TZOFFSETTO:-0300
TZNAME:ADT
DTSTART:20250309T060000
END:DAYLIGHT
BEGIN:STANDARD
TZOFFSETFROM:-0300
TZOFFSETTO:-0400
TZNAME:AST
DTSTART:20251102T050000
END:STANDARD
END:VTIMEZONE
BEGIN:VEVENT
DTSTART;VALUE=DATE:20240313
DTEND;VALUE=DATE:20240516
DTSTAMP:20260424T125125
CREATED:20240118T211815Z
LAST-MODIFIED:20240118T211815Z
UID:20033-1710302400-1715745599@coveocean.com
SUMMARY:Electric & Hybrid Marine Expo North America Exhibition and Conference
DESCRIPTION:The world’s leading exhibition for marine electrification\, decarbonization\, future fuels and low-carbon shipping solutions\nTechnologies for electrification and hybridization of workboats\, ferries\, superyachts\, other marine vessels + port and harbour infrastructure\nElectric & Hybrid Marine Expo North America Exhibition and Conference\, to be held at Long Beach Convention Center\, USA\, March 13 & 14\, 2024\, is dedicated solely to showcasing the very latest and next-generation electric and hybrid marine propulsion technologies\, charging equipment and fuel-saving solutions. \nTargeting the North American market\, the Electric & Hybrid Marine Expo is the only exhibition and conference that will showcase these emerging efficient technologies and components to an audience of shipowners and operators\, boat builders\, shipyards\, propulsion system designers and manufacturers\, naval architects\, military fleet operators/chiefs and port operators\, all interested in exploring ways to decarbonize and the path to zero-emission shipping. \nNothing but green marine propulsion systems\, emission-reduction fuels\, hybrid systems\, charging technologies and\, of course\, the components within them will be on display – and the only visitors invited to attend will be those who purchase and specify marine charging infrastructures\, and vessel engines and components. Every single exhibit will be of relevance to every single visitor\, and the only thing visitors will be searching for is cleaner\, more efficient\, fuel-saving propulsion systems.
URL:https://coveocean.com/event/electric-hybrid-marine-expo-north-america-exhibition-and-conference/
LOCATION:Long Beach Convention Center\, 300 E Ocean Blvd\, Long Beach\, CA\, 90802\, United States
CATEGORIES:Conference,Marine Technology
ATTACH;FMTTYPE=image/png:https://coveocean.com/wp-content/uploads/2024/01/Untitled-design-5.png
END:VEVENT
BEGIN:VEVENT
DTSTART;VALUE=DATE:20240514
DTEND;VALUE=DATE:20240516
DTSTAMP:20260424T125125
CREATED:20231129T184511Z
LAST-MODIFIED:20231129T184511Z
UID:19722-1715644800-1715817599@coveocean.com
SUMMARY:Aquaculture UK
DESCRIPTION:Aquaculture UK is the UK’s largest meeting place for aquaculture professionals.\nMeet the companies driving infrastructure\, farming technology and equipment forward. You’ll discover real-time solutions that boost production and profitability. And take away key insights on sustainability\, welfare and environmental challenges. \nJoin your industry on 14-15 May at Macdonald Aviemore\, Scotland\, and share ideas to define the future.
URL:https://coveocean.com/event/aquaculture-uk/
LOCATION:Macdonald Aviemore Resort\, Highland Resort\, Aviemore\, PH22 1PN\, United Kingdom
CATEGORIES:Conference,Europe
ATTACH;FMTTYPE=image/jpeg:https://coveocean.com/wp-content/uploads/2023/11/Aquaculture-UK.jpg
END:VEVENT
BEGIN:VEVENT
DTSTART;VALUE=DATE:20240526
DTEND;VALUE=DATE:20240531
DTSTAMP:20260424T125125
CREATED:20240118T211427Z
LAST-MODIFIED:20240118T211427Z
UID:20024-1716766200-1717111799@coveocean.com
SUMMARY:Canadian Hydrographic Conference 2024
DESCRIPTION:The CHA has a long-standing partnership with The Hydrographic Society of America\, and the two organizations take turns hosting this annual international conference series. This year\, it is Canada’s turn\, and CHA is excited to build upon the great success of US Hydro 2023 by organizing CHC2024 to be held in St. John’s\, Newfoundland and Labrador. \nSt. John’s is the ideal location for a hydrographic conference; it’s North America’s most easterly city\, founded on the very edge of the Atlantic\, with a culture built upon more than 500 years of maritime tradition. St. John’s is a wonderful city with a rich history and many interesting sites to visit\, from the amazing views atop Signal Hill to the colourful homes of Jellybean Row to the icebergs not far off the coast well into June. But it will be the people that you will remember the most\, full of friendliness and fun\, with music and humour at their very core. \nThis year’s theme is “Unveiling our Blue Planet\,”. With important international initiatives underway\, including the United Nations Decade of Ocean Science for Sustainable Development and the Nippon Foundation/GEBCO Seabed 2030 Project\, the requirement to better understand the ‘blue’ part of our planet is gaining much-needed attention. While many advances continue to be made in the hydrographic discipline\, much remains to be accomplished as the richness and applications of hydrographic data expand and the artificial boundaries between hydrography and other important disciplines fade.
URL:https://coveocean.com/event/canadian-hydrographic-conference-2024/
LOCATION:St. John’s Convention Centre\, 101 New Gower Street\, St. John's\, Newfoundland and Labrador\, A1C 1J5\, Canada
CATEGORIES:Canada,Conference
ATTACH;FMTTYPE=image/png:https://coveocean.com/wp-content/uploads/2024/01/Untitled-design-2.png
END:VEVENT
END:VCALENDAR